BEGIN:VCALENDAR
VERSION:2.0
PRODID:-//ORSVP - ECPv6.6.4.2//NONSGML v1.0//EN
CALSCALE:GREGORIAN
METHOD:PUBLISH
X-ORIGINAL-URL:https://orsvp.com
X-WR-CALDESC:Events for ORSVP
REFRESH-INTERVAL;VALUE=DURATION:PT1H
X-Robots-Tag:noindex
X-PUBLISHED-TTL:PT1H
BEGIN:VTIMEZONE
TZID:America/Halifax
BEGIN:DAYLIGHT
TZOFFSETFROM:-0400
TZOFFSETTO:-0300
TZNAME:ADT
DTSTART:20150308T060000
END:DAYLIGHT
BEGIN:STANDARD
TZOFFSETFROM:-0300
TZOFFSETTO:-0400
TZNAME:AST
DTSTART:20151101T050000
END:STANDARD
END:VTIMEZONE
BEGIN:VEVENT
DTSTART;TZID=America/Halifax:20150821T180000
DTEND;TZID=America/Halifax:20150821T210000
DTSTAMP:20260419T124248
CREATED:20150408T184222Z
LAST-MODIFIED:20150408T184222Z
UID:11971-1440180000-1440190800@orsvp.com
SUMMARY:SummerStage 2015: Charlie Parker Jazz Festival
DESCRIPTION:Oliver Lake Big Band\, The King Solomon Hicks Trio\, Michela Taps- Bird Lives!
URL:https://orsvp.com/event/summerstage-2015-charlie-parker-jazz-festival/
LOCATION:Marcus Garvey Park Amphitheater\, 18 Mt Morris Park W\, New York\, NY\, 10027\, United States
CATEGORIES:Free Concerts
END:VEVENT
BEGIN:VEVENT
DTSTART;TZID=America/Halifax:20150821T190000
DTEND;TZID=America/Halifax:20150821T190000
DTSTAMP:20260419T124248
CREATED:20150603T151107Z
LAST-MODIFIED:20160525T145002Z
UID:14649-1440183600-1440183600@orsvp.com
SUMMARY:Pryde
DESCRIPTION:
URL:https://orsvp.com/event/pryde-gramercy-theatre-082115/
LOCATION:NY
CATEGORIES:Music
ATTACH;FMTTYPE=:
END:VEVENT
BEGIN:VEVENT
DTSTART;TZID=America/Halifax:20150821T190000
DTEND;TZID=America/Halifax:20150821T190000
DTSTAMP:20260419T124248
CREATED:20150603T151108Z
LAST-MODIFIED:20160525T145157Z
UID:14653-1440183600-1440183600@orsvp.com
SUMMARY:Drag Queens of Comedy
DESCRIPTION:
URL:https://orsvp.com/event/drag-queens-of-comedy-irving-plaza-082115/
LOCATION:NY
CATEGORIES:Theater & Comedy
ATTACH;FMTTYPE=:
END:VEVENT
BEGIN:VEVENT
DTSTART;TZID=America/Halifax:20150821T203000
DTEND;TZID=America/Halifax:20150821T230000
DTSTAMP:20260419T124248
CREATED:20150430T001452Z
LAST-MODIFIED:20160525T142638Z
UID:12993-1440189000-1440198000@orsvp.com
SUMMARY:Hudson RiverFlicks: Hook
DESCRIPTION:There’s something for everyone in the family on Friday nights in Hudson River Park! Hudson RiverFlicks: Family Fridays returns to Hudson River ParkÍs Pier 46 this summer and features recent favorites as well as classic movies for the whole family to enjoy. \nFree popcorn!
URL:https://orsvp.com/event/hudson-riverflicks-hook/
LOCATION:Pier 46\, 46 Edward M Morgan Pl\, New York\, NY\, 10014\, United States
CATEGORIES:Free Events,Free Summer Movies 2015
ATTACH;FMTTYPE=:
END:VEVENT
BEGIN:VEVENT
DTSTART;TZID=America/Halifax:20150822T150000
DTEND;TZID=America/Halifax:20150822T190000
DTSTAMP:20260419T124248
CREATED:20150408T184222Z
LAST-MODIFIED:20150408T184222Z
UID:11972-1440255600-1440270000@orsvp.com
SUMMARY:SummerStage 2015: Charlie Parker Jazz Festival
DESCRIPTION:Dr. Lonnie Smith\, Andy Bey\, Jeff
URL:https://orsvp.com/event/summerstage-2015-charlie-parker-jazz-festival-2/
LOCATION:Marcus Garvey Park Amphitheater\, 18 Mt Morris Park W\, New York\, NY\, 10027\, United States
CATEGORIES:Free Concerts
END:VEVENT
BEGIN:VEVENT
DTSTART;TZID=America/Halifax:20150822T200000
DTEND;TZID=America/Halifax:20150822T200000
DTSTAMP:20260419T124248
CREATED:20150528T171839Z
LAST-MODIFIED:20160525T145002Z
UID:14327-1440273600-1440273600@orsvp.com
SUMMARY:Ringside: An Evening with Jim Ross
DESCRIPTION:
URL:https://orsvp.com/event/ringside-an-evening-with-jim-ross-gramercy-theatre-082215/
LOCATION:NY
CATEGORIES:Music
ATTACH;FMTTYPE=:
END:VEVENT
BEGIN:VEVENT
DTSTART;TZID=America/Halifax:20150823T150000
DTEND;TZID=America/Halifax:20150823T190000
DTSTAMP:20260419T124248
CREATED:20150408T184223Z
LAST-MODIFIED:20150408T184223Z
UID:11973-1440342000-1440356400@orsvp.com
SUMMARY:SummerStage 2015: Charlie Parker Jazz Festival
DESCRIPTION:Joe Lovano\, Rudresh Mahanthappa- Bird Calls\, Myra Melford\, Michael Mwenso
URL:https://orsvp.com/event/summerstage-2015-charlie-parker-jazz-festival-3/
LOCATION:Marcus Garvey Park Amphitheater\, 18 Mt Morris Park W\, New York\, NY\, 10027\, United States
CATEGORIES:Free Concerts
END:VEVENT
BEGIN:VEVENT
DTSTART;TZID=America/Halifax:20150823T180000
DTEND;TZID=America/Halifax:20150823T220000
DTSTAMP:20260419T124248
CREATED:20150408T184223Z
LAST-MODIFIED:20150408T184223Z
UID:11974-1440352800-1440367200@orsvp.com
SUMMARY:SummerStage 2015: RCA Summer Concert Celebration feat. Jazmine Sullivan\, Jordan Bratton & More
DESCRIPTION:Jazmine Sullivan\, Jordan Bratton & More will be performing for free as part of SummerStage 2015!
URL:https://orsvp.com/event/summerstage-2015-rca-summer-concert-celebration-feat-jazmine-sullivan-jordan-bratton-more/
LOCATION:Central Park SummerStage\, Central Park SummerStage\, New York\, NY\, 10019\, United States
CATEGORIES:Free Concerts
ATTACH;FMTTYPE=:
END:VEVENT
BEGIN:VEVENT
DTSTART;TZID=America/Halifax:20150823T190000
DTEND;TZID=America/Halifax:20150823T190000
DTSTAMP:20260419T124248
CREATED:20150518T224956Z
LAST-MODIFIED:20160525T143505Z
UID:13882-1440356400-1440356400@orsvp.com
SUMMARY:The Surf Lodge: Jack Garratt
DESCRIPTION:Jack Garratt will be performing for free on the beach in Montauk as part of this year’s The Surf Lodge Summer Concert Series!
URL:https://orsvp.com/event/the-surf-lodge-jack-garratt/
LOCATION:NY
CATEGORIES:Free Concerts,Free Events,Music
ATTACH;FMTTYPE=:
END:VEVENT
BEGIN:VEVENT
DTSTART;TZID=America/Halifax:20150824T170000
DTEND;TZID=America/Halifax:20150824T230000
DTSTAMP:20260419T124248
CREATED:20150528T121126Z
LAST-MODIFIED:20160525T142637Z
UID:14261-1440435600-1440457200@orsvp.com
SUMMARY:Bryant Park Summer Film Festival: Back to the Future
DESCRIPTION:Classic films under the stars on the big screen. Bring a blanket and sit on the lawn to enjoy great food\, friends\, plus a classic Warner Brothers cartoon before each film.\nThe lawn opens at 5:00pm for blankets and picnicking. Films begin at sunset (typically between 8pm and 9pm). \n\n \nA young man is accidentally sent 30 years into the past in a time-traveling DeLorean invented by his friend\, Dr. Emmett Brown\, and must make sure his high-school-age parents unite in order to save his own existence. \nStarring: Michael J. Fox\, Christopher Lloyd\, Lea Thompson
URL:https://orsvp.com/event/bryant-park-summer-film-festival-back-to-the-future/
LOCATION:Bryant Park Lawn\, Bryant Park\, New York\, NY\, United States
CATEGORIES:Free Events,Free Summer Movies 2015
ATTACH;FMTTYPE=:
END:VEVENT
BEGIN:VEVENT
DTSTART;TZID=America/Halifax:20150825T183000
DTEND;TZID=America/Halifax:20150825T230000
DTSTAMP:20260419T124248
CREATED:20150518T173741Z
LAST-MODIFIED:20150518T173741Z
UID:13791-1440527400-1440543600@orsvp.com
SUMMARY:Central Park Film Festival: Fame
DESCRIPTION:In 1980\, Central Park Conservancy was founded by a group of concerned citizens determined to reverse the decline of Central Park. On the eve of their 35th Anniversary\, they look back at that time to reflect on how far they’ve come. \nThe theme: Classic films of 1980\, the year the Conservancy was founded. \nLocated on the landscape between Sheep Meadow and the 72nd Street Cross Drive. Gates open at 6:30pm\, movies begin at 8:00pm. \nFilms will screen rain or shine. A DJ will perform from 6:30-8:00pm. The Film Festival is free. All films are open captioned. Bring a picnic and a blanket.
URL:https://orsvp.com/event/central-park-film-festival-fame/
LOCATION:Central Park Film Festival\, 65th Street Transverse\, New York\, NY\, 10023\, United States
CATEGORIES:Free Summer Movies 2015
ATTACH;FMTTYPE=:
END:VEVENT
BEGIN:VEVENT
DTSTART;TZID=America/Halifax:20150825T200000
DTEND;TZID=America/Halifax:20150825T223000
DTSTAMP:20260419T124248
CREATED:20150501T152642Z
LAST-MODIFIED:20160525T142637Z
UID:13118-1440532800-1440541800@orsvp.com
SUMMARY:NYC Parks Summer Movies: E.T. The Extra Terrestrial
DESCRIPTION:Free summer movies are here\, brought to you by New York Restoration Project and Word Up Bookshop-Liberia Comunitaria! Bring a picnic and blanket\, and enjoy an evening under the stars. \nPrior to the film the cartoon classic Duck Dodgers in the 24 1/2 Century will be shown. \nComplimentary hot popcorn will be served. Movie begins between 8pm and 9pm (at sunset). \n\nA troubled child summons the courage to help a friendly alien escape Earth and return to his home-world. \nStarring: Henry Thomas\, Drew Barrymore\, Peter Coyote
URL:https://orsvp.com/event/nyc-parks-summer-movies-e-t-the-extra-terrestrial/
LOCATION:Swindler Cove at Sherman Creek Park\, 3703 Harlem River Dr\, New York\, NY\, 10034\, United States
CATEGORIES:Free Events,Free Summer Movies 2015
ATTACH;FMTTYPE=:
END:VEVENT
BEGIN:VEVENT
DTSTART;TZID=America/Halifax:20150826T183000
DTEND;TZID=America/Halifax:20150826T230000
DTSTAMP:20260419T124248
CREATED:20150518T174209Z
LAST-MODIFIED:20150518T174209Z
UID:13795-1440613800-1440630000@orsvp.com
SUMMARY:Central Park Film Festival: The Blues Brothers
DESCRIPTION:In 1980\, Central Park Conservancy was founded by a group of concerned citizens determined to reverse the decline of Central Park. On the eve of their 35th Anniversary\, they look back at that time to reflect on how far they’ve come. \nThe theme: Classic films of 1980\, the year the Conservancy was founded. \nLocated on the landscape between Sheep Meadow and the 72nd Street Cross Drive. Gates open at 6:30pm\, movies begin at 8:00pm. \nFilms will screen rain or shine. A DJ will perform from 6:30-8:00pm. The Film Festival is free. All films are open captioned. Bring a picnic and a blanket.
URL:https://orsvp.com/event/central-park-film-festival-the-blues-brothers/
LOCATION:Central Park Film Festival\, 65th Street Transverse\, New York\, NY\, 10023\, United States
CATEGORIES:Free Summer Movies 2015
ATTACH;FMTTYPE=:
END:VEVENT
BEGIN:VEVENT
DTSTART;TZID=America/Halifax:20150827T180000
DTEND;TZID=America/Halifax:20150827T220000
DTSTAMP:20260419T124248
CREATED:20150429T141732Z
LAST-MODIFIED:20160525T142905Z
UID:12913-1440698400-1440712800@orsvp.com
SUMMARY:Syfy Movies With a View: Die Hard
DESCRIPTION:The evening begins with DJ Isis Swaby and the short film Leonard in Slow Motion\, directed Peter Livolsi. \nMusic starts at 6:00 pm\, movie begins at sundown.
URL:https://orsvp.com/event/syfy-movies-with-a-view-die-hard/
LOCATION:Brooklyn Bridge Park: Pier 1\, Old Fulton St\, Brooklyn\, NY\, 11201\, United States
CATEGORIES:DJs,Free Events,Free Summer Movies 2015
ATTACH;FMTTYPE=:
END:VEVENT
BEGIN:VEVENT
DTSTART;TZID=America/Halifax:20150827T183000
DTEND;TZID=America/Halifax:20150827T230000
DTSTAMP:20260419T124248
CREATED:20150518T175514Z
LAST-MODIFIED:20150518T175514Z
UID:13796-1440700200-1440716400@orsvp.com
SUMMARY:Central Park Film Festival: Airplane!
DESCRIPTION:In 1980\, Central Park Conservancy was founded by a group of concerned citizens determined to reverse the decline of Central Park. On the eve of their 35th Anniversary\, they look back at that time to reflect on how far they’ve come. \nThe theme: Classic films of 1980\, the year the Conservancy was founded. \nLocated on the landscape between Sheep Meadow and the 72nd Street Cross Drive. Gates open at 6:30pm\, movies begin at 8:00pm. \nFilms will screen rain or shine. A DJ will perform from 6:30-8:00pm. The Film Festival is free. All films are open captioned. Bring a picnic and a blanket.
URL:https://orsvp.com/event/central-park-film-festival-airplane/
LOCATION:Central Park Film Festival\, 65th Street Transverse\, New York\, NY\, 10023\, United States
CATEGORIES:Free Summer Movies 2015
ATTACH;FMTTYPE=:
END:VEVENT
BEGIN:VEVENT
DTSTART;TZID=America/Halifax:20150828T070000
DTEND;TZID=America/Halifax:20150828T090000
DTSTAMP:20260419T124248
CREATED:20150515T181322Z
LAST-MODIFIED:20160525T143505Z
UID:13687-1440745200-1440752400@orsvp.com
SUMMARY:GMA Summer Concert Series 2015: TBD
DESCRIPTION:TBD will be performing for free at Rumsey Playfield in Central Park as part of this year’s Good Morning America Summer Concert Series!
URL:https://orsvp.com/event/gma-summer-concert-series-2015-tbd-3/
LOCATION:NY
CATEGORIES:Free Concerts,Music
END:VEVENT
BEGIN:VEVENT
DTSTART;TZID=America/Halifax:20150828T183000
DTEND;TZID=America/Halifax:20150828T230000
DTSTAMP:20260419T124248
CREATED:20150518T175518Z
LAST-MODIFIED:20150518T175518Z
UID:13797-1440786600-1440802800@orsvp.com
SUMMARY:Central Park Film Festival: Raging Bull
DESCRIPTION:In 1980\, Central Park Conservancy was founded by a group of concerned citizens determined to reverse the decline of Central Park. On the eve of their 35th Anniversary\, they look back at that time to reflect on how far they’ve come. \nThe theme: Classic films of 1980\, the year the Conservancy was founded. \nLocated on the landscape between Sheep Meadow and the 72nd Street Cross Drive. Gates open at 6:30pm\, movies begin at 8:00pm. \nFilms will screen rain or shine. A DJ will perform from 6:30-8:00pm. The Film Festival is free. All films are open captioned. Bring a picnic and a blanket.
URL:https://orsvp.com/event/central-park-film-festival-raging-bull/
LOCATION:Central Park Film Festival\, 65th Street Transverse\, New York\, NY\, 10023\, United States
CATEGORIES:Free Summer Movies 2015
ATTACH;FMTTYPE=:
END:VEVENT
BEGIN:VEVENT
DTSTART;TZID=America/Halifax:20150829T063000
DTEND;TZID=America/Halifax:20150829T230000
DTSTAMP:20260419T124248
CREATED:20150518T175523Z
LAST-MODIFIED:20150518T175523Z
UID:13798-1440829800-1440889200@orsvp.com
SUMMARY:Central Park Film Festival: Superman II
DESCRIPTION:In 1980\, Central Park Conservancy was founded by a group of concerned citizens determined to reverse the decline of Central Park. On the eve of their 35th Anniversary\, they look back at that time to reflect on how far they’ve come. \nThe theme: Classic films of 1980\, the year the Conservancy was founded. \nLocated on the landscape between Sheep Meadow and the 72nd Street Cross Drive. Gates open at 6:30pm\, movies begin at 8:00pm. \nFilms will screen rain or shine. A DJ will perform from 6:30-8:00pm. The Film Festival is free. All films are open captioned. Bring a picnic and a blanket.
URL:https://orsvp.com/event/central-park-film-festival-superman-ii/
LOCATION:Central Park Film Festival\, 65th Street Transverse\, New York\, NY\, 10023\, United States
CATEGORIES:Free Summer Movies 2015
ATTACH;FMTTYPE=:
END:VEVENT
BEGIN:VEVENT
DTSTART;TZID=America/Halifax:20150829T190000
DTEND;TZID=America/Halifax:20150829T190000
DTSTAMP:20260419T124248
CREATED:20150518T224957Z
LAST-MODIFIED:20160525T143505Z
UID:13883-1440874800-1440874800@orsvp.com
SUMMARY:The Surf Lodge: MS MR
DESCRIPTION:MS MR will be performing for free on the beach in Montauk as part of this year’s The Surf Lodge Summer Concert Series!
URL:https://orsvp.com/event/the-surf-lodge-ms-mr/
LOCATION:NY
CATEGORIES:Free Concerts,Free Events,Music
ATTACH;FMTTYPE=:
END:VEVENT
BEGIN:VEVENT
DTSTART;TZID=America/Halifax:20150830T190000
DTEND;TZID=America/Halifax:20150830T190000
DTSTAMP:20260419T124248
CREATED:20150518T224957Z
LAST-MODIFIED:20160525T143505Z
UID:13884-1440961200-1440961200@orsvp.com
SUMMARY:The Surf Lodge: BORNS with VERITE
DESCRIPTION:BORNS with VERITE will be performing for free on the beach in Montauk as part of this year’s The Surf Lodge Summer Concert Series!
URL:https://orsvp.com/event/the-surf-lodge-borns-with-verite/
LOCATION:NY
CATEGORIES:Free Concerts,Free Events,Music
ATTACH;FMTTYPE=:
END:VEVENT
BEGIN:VEVENT
DTSTART;TZID=America/Halifax:20150902T170000
DTEND;TZID=America/Halifax:20150902T220000
DTSTAMP:20260419T124248
CREATED:20150408T184224Z
LAST-MODIFIED:20150408T184224Z
UID:11975-1441213200-1441231200@orsvp.com
SUMMARY:SummerStage 2015: Lake Street Dive and Kitty\, Daisy & Lewis
DESCRIPTION:Lake Street Dive and Kitty\, Daisy & Lewis will be performing for free as part of SummerStage 2015!
URL:https://orsvp.com/event/summerstage-2015-lake-street-dive-and-kitty-daisy-lewis/
LOCATION:Central Park SummerStage\, Central Park SummerStage\, New York\, NY\, 10019\, United States
CATEGORIES:Free Concerts
ATTACH;FMTTYPE=:
END:VEVENT
BEGIN:VEVENT
DTSTART;TZID=America/Halifax:20150904T060000
DTEND;TZID=America/Halifax:20150904T100000
DTSTAMP:20260419T124248
CREATED:20150505T163740Z
LAST-MODIFIED:20150505T163740Z
UID:13301-1441346400-1441360800@orsvp.com
SUMMARY:TODAY Toyota Concert Series 2015: Brad Paisley
DESCRIPTION:Brad Paisley will be performing for FREE in Rockefeller Plaza as part of this year’s TODAY Summer Concert Series. \nFans and visitors are encouraged to come to the plaza for the live performances. Viewing is on a first-come\, first-served basis outside TODAY’s window-on-the-world studio\, located at 49th Street and Rockefeller Plaza in New York City. Fans should arrive by 6 a.m. for best viewing.
URL:https://orsvp.com/event/today-toyota-concert-series-2015-brad-paisley/
LOCATION:NY
CATEGORIES:Free Concerts
ATTACH;FMTTYPE=:
END:VEVENT
BEGIN:VEVENT
DTSTART;TZID=America/Halifax:20150904T070000
DTEND;TZID=America/Halifax:20150904T090000
DTSTAMP:20260419T124248
CREATED:20150515T181322Z
LAST-MODIFIED:20160525T143505Z
UID:13688-1441350000-1441357200@orsvp.com
SUMMARY:GMA Summer Concert Series 2015: Florida Georgia Line
DESCRIPTION:Florida Georgia Line will be performing for free at Rumsey Playfield in Central Park as part of this year’s Good Morning America Summer Concert Series!
URL:https://orsvp.com/event/gma-summer-concert-series-2015-florida-georgia-line/
LOCATION:NY
CATEGORIES:Free Concerts,Music
ATTACH;FMTTYPE=:
END:VEVENT
BEGIN:VEVENT
DTSTART;TZID=America/Halifax:20150904T190000
DTEND;TZID=America/Halifax:20150904T190000
DTSTAMP:20260419T124248
CREATED:20150518T224958Z
LAST-MODIFIED:20160525T143505Z
UID:13885-1441393200-1441393200@orsvp.com
SUMMARY:The Surf Lodge: The Joy Formidable
DESCRIPTION:The Joy Formidable will be performing for free on the beach in Montauk as part of this year’s The Surf Lodge Summer Concert Series!
URL:https://orsvp.com/event/the-surf-lodge-the-joy-formidable/
LOCATION:NY
CATEGORIES:Free Concerts,Free Events,Music
ATTACH;FMTTYPE=:
END:VEVENT
BEGIN:VEVENT
DTSTART;TZID=America/Halifax:20150906T190000
DTEND;TZID=America/Halifax:20150906T190000
DTSTAMP:20260419T124248
CREATED:20150518T224959Z
LAST-MODIFIED:20160525T143505Z
UID:13886-1441566000-1441566000@orsvp.com
SUMMARY:The Surf Lodge: Wild Belle
DESCRIPTION:Wild Belle will be performing for free on the beach in Montauk as part of this year’s The Surf Lodge Summer Concert Series!
URL:https://orsvp.com/event/the-surf-lodge-wild-belle/
LOCATION:NY
CATEGORIES:Free Concerts,Free Events,Music
ATTACH;FMTTYPE=:
END:VEVENT
BEGIN:VEVENT
DTSTART;TZID=America/Halifax:20150908T190000
DTEND;TZID=America/Halifax:20150908T190000
DTSTAMP:20260419T124248
CREATED:20150527T201544Z
LAST-MODIFIED:20160525T145002Z
UID:14214-1441738800-1441738800@orsvp.com
SUMMARY:L7
DESCRIPTION:
URL:https://orsvp.com/event/l7/
LOCATION:NY
CATEGORIES:Music
END:VEVENT
BEGIN:VEVENT
DTSTART;TZID=America/Halifax:20150909T190000
DTEND;TZID=America/Halifax:20150909T190000
DTSTAMP:20260419T124248
CREATED:20150513T172952Z
LAST-MODIFIED:20160525T145002Z
UID:13558-1441825200-1441825200@orsvp.com
SUMMARY:Blues Traveler
DESCRIPTION:
URL:https://orsvp.com/event/blues-traveler-irving-plaza-090915/
LOCATION:NY
CATEGORIES:Music
ATTACH;FMTTYPE=:
END:VEVENT
BEGIN:VEVENT
DTSTART;TZID=America/Halifax:20150912T170000
DTEND;TZID=America/Halifax:20150912T230000
DTSTAMP:20260419T124248
CREATED:20150831T193110Z
LAST-MODIFIED:20160525T142637Z
UID:15345-1442077200-1442098800@orsvp.com
SUMMARY:JanSport Bonfire Sessions feat. The London Souls
DESCRIPTION:JanSport presents The Bonfire Sessions featuring The London Souls\, Kilo Kish\, and The Lawsuits. Bands and a bonfire under the big sky lakeside at Prospect Park! RSVP now!
URL:https://orsvp.com/event/jansport-bonfire-sessions-feat-the-london-souls/
LOCATION:NY
CATEGORIES:Free Concerts,Free Events,RSVP Required
ATTACH;FMTTYPE=:
END:VEVENT
BEGIN:VEVENT
DTSTART;TZID=America/Halifax:20150912T190000
DTEND;TZID=America/Halifax:20150912T190000
DTSTAMP:20260419T124248
CREATED:20150528T171839Z
LAST-MODIFIED:20160525T145002Z
UID:14328-1442084400-1442084400@orsvp.com
SUMMARY:Nuclear Assault
DESCRIPTION:Nuclear Assault with Murphy’s Law and Whiplash.
URL:https://orsvp.com/event/nuclear-assault-gramercy-theatre-091215/
LOCATION:NY
CATEGORIES:Music
ATTACH;FMTTYPE=:
END:VEVENT
BEGIN:VEVENT
DTSTART;TZID=America/Halifax:20150913T190000
DTEND;TZID=America/Halifax:20150913T190000
DTSTAMP:20260419T124248
CREATED:20150528T171839Z
LAST-MODIFIED:20160525T145002Z
UID:14329-1442170800-1442170800@orsvp.com
SUMMARY:Steve Ignorant with Paranoid Visions
DESCRIPTION:
URL:https://orsvp.com/event/steve-ignorant-with-paranoid-visions/
LOCATION:NY
CATEGORIES:Music
ATTACH;FMTTYPE=:
END:VEVENT
END:VCALENDAR