BEGIN:VCALENDAR
VERSION:2.0
PRODID:-//ORSVP - ECPv6.6.4.2//NONSGML v1.0//EN
CALSCALE:GREGORIAN
METHOD:PUBLISH
X-ORIGINAL-URL:https://orsvp.com
X-WR-CALDESC:Events for ORSVP
REFRESH-INTERVAL;VALUE=DURATION:PT1H
X-Robots-Tag:noindex
X-PUBLISHED-TTL:PT1H
BEGIN:VTIMEZONE
TZID:UTC
BEGIN:STANDARD
TZOFFSETFROM:+0000
TZOFFSETTO:+0000
TZNAME:UTC
DTSTART:20160101T000000
END:STANDARD
TZID:America/Halifax
BEGIN:DAYLIGHT
TZOFFSETFROM:-0400
TZOFFSETTO:-0300
TZNAME:ADT
DTSTART:20160313T060000
END:DAYLIGHT
BEGIN:STANDARD
TZOFFSETFROM:-0300
TZOFFSETTO:-0400
TZNAME:AST
DTSTART:20161106T050000
END:STANDARD
END:VTIMEZONE
BEGIN:VEVENT
DTSTART;TZID=UTC:20160504T190000
DTEND;TZID=UTC:20160504T230000
DTSTAMP:20260420T062338
CREATED:20160303T193628Z
LAST-MODIFIED:20160429T205616Z
UID:999999699-1462388400-1462402800@orsvp.com
SUMMARY:Bon Qui Qui
DESCRIPTION:
URL:https://orsvp.com/event/bon-qui-qui-gramercy-theatre-050416/
LOCATION:Gramercy Theatre\, 127 E 23rd St\, New York\, NY\, 10010\, United States
CATEGORIES:Contests,Music
ATTACH;FMTTYPE=image/jpeg:https://orsvp.com/wp-content/uploads/2016/03/bon-qui-qui-gramercy-theatre-050416.jpg
END:VEVENT
BEGIN:VEVENT
DTSTART;TZID=UTC:20160505T183000
DTEND;TZID=UTC:20160505T230000
DTSTAMP:20260420T062338
CREATED:20160303T191950Z
LAST-MODIFIED:20160411T144743Z
UID:999999700-1462473000-1462489200@orsvp.com
SUMMARY:Enter Shikari
DESCRIPTION:
URL:https://orsvp.com/event/enter-shikari-gramercy-theatre-050516/
LOCATION:Gramercy Theatre\, 127 E 23rd St\, New York\, NY\, 10010\, United States
CATEGORIES:Contests,Music
ATTACH;FMTTYPE=image/jpeg:https://orsvp.com/wp-content/uploads/2016/03/enter-shikari-gramercy-theatre-050516.jpg
END:VEVENT
BEGIN:VEVENT
DTSTART;TZID=America/Halifax:20160505T190000
DTEND;TZID=America/Halifax:20160505T230000
DTSTAMP:20260420T062338
CREATED:20160323T180550Z
LAST-MODIFIED:20160327T195048Z
UID:1000000399-1462474800-1462489200@orsvp.com
SUMMARY:St. Lucia
DESCRIPTION:
URL:https://orsvp.com/event/st-lucia-irving-plaza-050516/
LOCATION:Irving Plaza\, 17 Irving Pl\, New York\, NY\, 10003\, United States
CATEGORIES:Music
ATTACH;FMTTYPE=image/jpeg:https://orsvp.com/wp-content/uploads/2016/03/st-lucia-e1456956723579.jpg
END:VEVENT
BEGIN:VEVENT
DTSTART;TZID=America/Halifax:20160505T200000
DTEND;TZID=America/Halifax:20160505T230000
DTSTAMP:20260420T062338
CREATED:20160408T164458Z
LAST-MODIFIED:20160408T164458Z
UID:1000000793-1462478400-1462489200@orsvp.com
SUMMARY:GRAMMY Park presents Ne-Yo
DESCRIPTION:Three-time GRAMMY Award winner and R&B superstar NE-YO brings his biggest hits and signature dance moves to GRAMMY Park. Multi GRAMMY-nominated singer-songwriter Jazmine Sullivan will kick off this night of R&B magic.
URL:https://orsvp.com/event/grammy-park-presents-ne-yo-kings-theatre-050516/
LOCATION:Kings Theatre\, 1027 Flatbush Ave\, Brooklyn\, NY\, 11226\, United States
CATEGORIES:Music
ATTACH;FMTTYPE=image/jpeg:https://orsvp.com/wp-content/uploads/2016/04/grammy-park-presents-ne-yo-kings-theatre-050516.jpg
END:VEVENT
BEGIN:VEVENT
DTSTART;TZID=America/Halifax:20160505T210000
DTEND;TZID=America/Halifax:20160506T020000
DTSTAMP:20260420T062338
CREATED:20160504T184116Z
LAST-MODIFIED:20160504T184145Z
UID:1000001505-1462482000-1462500000@orsvp.com
SUMMARY:Jose Cuervo + Afropunk present No Cuervo No Cinco
DESCRIPTION:Admission is first-come\, first-served. You must RSVP. Invitation is non-transferable.
URL:https://orsvp.com/event/jose-cuervo-afropunk-present-no-cuervo-no-cinco-villain-050516/
LOCATION:Villain\, 50 N 3rd St.\, Brooklyn\, NY\, 11249\, United States
CATEGORIES:DJs,Free Concerts,Free Events,Music,Open Bars
ATTACH;FMTTYPE=image/jpeg:https://orsvp.com/wp-content/uploads/2016/05/no-cuervo-no-cinco.jpg
END:VEVENT
BEGIN:VEVENT
DTSTART;TZID=UTC:20160506T170000
DTEND;TZID=UTC:20160506T200000
DTSTAMP:20260420T062338
CREATED:20160505T135727Z
LAST-MODIFIED:20160505T135727Z
UID:1000000018-1462554000-1462564800@orsvp.com
SUMMARY:Cyndi Lauper - Detour (CD Signing)
DESCRIPTION:A limited number of wristbands will be distributed with CD or LP purchase beginning at 9:00AM on the day of the event. Ms. Lauper will only be signing her CD or LP (no previous albums or memorabilia please). She will personalize with a name\, but due to time restraints\, she will not be posing for photos. This is a signing only\, there is no performance or discussion.
URL:https://orsvp.com/event/cyndi-lauper-detour-cd-signing-barnes-and-noble-union-square-050616/
LOCATION:Barnes & Noble – Union Square\, 33 East 17th Street\, New York\, NY\, 10003\, United States
CATEGORIES:Meet Celebrities,Signings
ATTACH;FMTTYPE=image/jpeg:https://orsvp.com/wp-content/uploads/2016/03/cyndi-lauper-detour-barnes-and-noble-050616.jpg
END:VEVENT
BEGIN:VEVENT
DTSTART;TZID=America/Halifax:20160506T170000
DTEND;TZID=America/Halifax:20160506T230000
DTSTAMP:20260420T062338
CREATED:20160504T182437Z
LAST-MODIFIED:20160504T182614Z
UID:1000001497-1462554000-1462575600@orsvp.com
SUMMARY:got2b Stand Out Pop Up
DESCRIPTION:Bring yourself and your attitude for a two-day party at the göt2b pop-up. Guests will be treated to drinks that match their mood and hairstyles that match their ’tude. \nRSVP and you’ll catch a sweet DJ lineup\, and secure a spot with one of göt2b’s top hairstylists for a free new ‘do. \nMAY 6 | 5-11PM\nSMALL BLACK (DJ SET)\nSTAR EYES\nJOEY LABEIJA
URL:https://orsvp.com/event/got2b-stand-out-pop-up-168-bowery-050616/
LOCATION:168 Bowery\, 168 Bowery\, New York\, NY\, 10012\, United States
CATEGORIES:DJs,Free Events,Music,Open Bars
ATTACH;FMTTYPE=image/jpeg:https://orsvp.com/wp-content/uploads/2016/05/got2be-stand-out-pop-up.jpg
END:VEVENT
BEGIN:VEVENT
DTSTART;TZID=America/Halifax:20160506T190000
DTEND;TZID=America/Halifax:20160506T220000
DTSTAMP:20260420T062338
CREATED:20160408T165709Z
LAST-MODIFIED:20160408T165709Z
UID:1000000794-1462561200-1462572000@orsvp.com
SUMMARY:GRAMMY Park presents LATIN MIX
DESCRIPTION:GRAMMY Park celebrates Latin music with an iconic lineup of multi GRAMMY Award and Latin GRAMMY Award-winning and nominated artists including Alex Cuba\, Natalia Lafourcade\, Arturo O’Farrill & The Afro-Latin Jazz Orchestra\, and other artists.
URL:https://orsvp.com/event/grammy-park-presents-latin-mix-prospect-park-bandshell-050616/
LOCATION:Prospect Park Bandshell\, 62 West Dr\, Brooklyn\, NY\, 11215\, United States
CATEGORIES:Music
ATTACH;FMTTYPE=image/jpeg:https://orsvp.com/wp-content/uploads/2016/04/grammy-park-presents-latin-mix-prospect-park-bandshell-050616.jpg
END:VEVENT
BEGIN:VEVENT
DTSTART;TZID=UTC:20160506T190000
DTEND;TZID=UTC:20160506T230000
DTSTAMP:20260420T062338
CREATED:20160303T191709Z
LAST-MODIFIED:20160428T153646Z
UID:999999701-1462561200-1462575600@orsvp.com
SUMMARY:Dweezil Zappa
DESCRIPTION:
URL:https://orsvp.com/event/dweezil-zappa-gramercy-theatre-050616/
LOCATION:Gramercy Theatre\, 127 E 23rd St\, New York\, NY\, 10010\, United States
CATEGORIES:Music
ATTACH;FMTTYPE=image/jpeg:https://orsvp.com/wp-content/uploads/2016/03/dweezil-zappa-gramercy-theatre-050616.jpg
END:VEVENT
BEGIN:VEVENT
DTSTART;TZID=America/Halifax:20160506T200000
DTEND;TZID=America/Halifax:20160506T220000
DTSTAMP:20260420T062338
CREATED:20160505T183633Z
LAST-MODIFIED:20160505T183633Z
UID:1000001601-1462564800-1462572000@orsvp.com
SUMMARY:Blogologues
DESCRIPTION:BLOGOLOGUES is the internet performed! We find the most outrageous text on the world wide web and perform it verbatim on stage. Blogologues brings to life Craigslist posts\, online dating profiles\, tweets\, Missed Connections\, Yelps reviews\, and more.
URL:https://orsvp.com/event/blogologues-the-pit-striker-050616/
LOCATION:The Pit Striker\, 123 E 24th St\, New York\, NY\, 10010\, United States
CATEGORIES:Theater & Comedy
ATTACH;FMTTYPE=image/jpeg:https://orsvp.com/wp-content/uploads/2016/05/blogologues.jpg
END:VEVENT
BEGIN:VEVENT
DTSTART;TZID=America/Halifax:20160506T200000
DTEND;TZID=America/Halifax:20160506T230000
DTSTAMP:20260420T062338
CREATED:20160408T165304Z
LAST-MODIFIED:20160408T165304Z
UID:1000000795-1462564800-1462575600@orsvp.com
SUMMARY:GRAMMY Park presents HIP-HOP GROUNDBREAKERS
DESCRIPTION:Rock & Roll Hall of Fame Inductees\, Public Enemy frontman and GRAMMY nominee Chuck D\, and Grandmaster Flash and Furious 5’s Rahiem and The Kidd Creole\, join fellow groundbreakers MC Lyte\, Just Blaze\, and Keith Shocklee along with other Hip-Hop icons for a night of remixes and collaborations led by acclaimed Music Director Ray Chew.
URL:https://orsvp.com/event/grammy-park-presents-hip-hop-groundbreakers-kings-theatre-050616/
LOCATION:Kings Theatre\, 1027 Flatbush Ave\, Brooklyn\, NY\, 11226\, United States
CATEGORIES:Music
ATTACH;FMTTYPE=image/jpeg:https://orsvp.com/wp-content/uploads/2016/04/grammy-park-presents-hip-hop-groundbreakers-kings-theatre-050616.jpg
END:VEVENT
BEGIN:VEVENT
DTSTART;TZID=America/Halifax:20160507T100000
DTEND;TZID=America/Halifax:20160507T120000
DTSTAMP:20260420T062338
CREATED:20160408T152426Z
LAST-MODIFIED:20160408T165941Z
UID:1000000789-1462615200-1462622400@orsvp.com
SUMMARY:GRAMMY Park presents The Next Generation: Emerging Artists
DESCRIPTION:Experience a dynamic 90-minute showcase featuring talented young artists and jazz ensembles\, set against the backdrop of the open air Prospect Park Bandshell. \nFree and open to the public. \nTickets are available through the Get Tickets button or tickets can be picked up directly at “no charge” at The LeFrak Center at Lakeside Entrance Ticket Window beginning April 18th at 10am.
URL:https://orsvp.com/event/grammy-park-presents-the-next-generation-emerging-artists-prospect-park-bandshell-050716/
LOCATION:Prospect Park Bandshell\, 62 West Dr\, Brooklyn\, NY\, 11215\, United States
CATEGORIES:Free Concerts,Music
ATTACH;FMTTYPE=image/jpeg:https://orsvp.com/wp-content/uploads/2016/04/the-next-generation-emerging-artists.jpg
END:VEVENT
BEGIN:VEVENT
DTSTART;TZID=America/Halifax:20160507T140000
DTEND;TZID=America/Halifax:20160507T180000
DTSTAMP:20260420T062338
CREATED:20160408T170355Z
LAST-MODIFIED:20160408T170355Z
UID:1000000806-1462629600-1462644000@orsvp.com
SUMMARY:GRAMMY Park Presents JAZZ ALL-STARS
DESCRIPTION:Enjoy an eight-hour musical journey across the world of Jazz – from straight ahead and R&B to funk and pop. Featuring iconic GRAMMY Award-winning and nominated artists including the Christian McBride Trio\, Cécile McLorin Salvant\, Kurt Elling\, Monty Alexander – Harlem Kingston Express\, John Patitucci Electric Guitar Quartet\, Terence Blanchard featuring the E-Collective\, and other celebrated artists.
URL:https://orsvp.com/event/grammy-park-presents-jazz-all-stars-prospect-park-bandshell-050716/
LOCATION:Prospect Park Bandshell\, 62 West Dr\, Brooklyn\, NY\, 11215\, United States
CATEGORIES:Music
ATTACH;FMTTYPE=image/jpeg:https://orsvp.com/wp-content/uploads/2016/04/grammy-park-presents-jazz-all-stars-prospect-park-bandshell-050716.jpg
END:VEVENT
BEGIN:VEVENT
DTSTART;TZID=America/Halifax:20160507T150000
DTEND;TZID=America/Halifax:20160507T210000
DTSTAMP:20260420T062338
CREATED:20160504T182440Z
LAST-MODIFIED:20160504T182602Z
UID:1000001499-1462633200-1462654800@orsvp.com
SUMMARY:got2b Stand Out Pop Up
DESCRIPTION:Bring yourself and your attitude for a two-day party at the göt2b pop-up. Guests will be treated to drinks that match their mood and hairstyles that match their ’tude. \nRSVP and you’ll catch a sweet DJ lineup\, and secure a spot with one of göt2b’s top hairstylists for a free new ‘do. \nMAY 7 | 3-9PM\nJUBILEE\nKATIE REX\nVOLVOX
URL:https://orsvp.com/event/got2b-stand-out-pop-up-168-bowery-050716/
LOCATION:168 Bowery\, 168 Bowery\, New York\, NY\, 10012\, United States
CATEGORIES:DJs,Free Events,Open Bars
ATTACH;FMTTYPE=image/jpeg:https://orsvp.com/wp-content/uploads/2016/05/got2be-stand-out-pop-up.jpg
END:VEVENT
BEGIN:VEVENT
DTSTART;TZID=UTC:20160507T190000
DTEND;TZID=UTC:20160507T230000
DTSTAMP:20260420T062338
CREATED:20160303T192427Z
LAST-MODIFIED:20160303T192444Z
UID:999999702-1462647600-1462662000@orsvp.com
SUMMARY:Mighty Real - A Fabulous Sylvester Musical
DESCRIPTION:MIGHTY REAL: A FABULOUS SYLVESTER MUSICAL is the Critically Acclaimed Musical Hit that celebrates the life of the Original 1970’s Disco Queen SYLVESTER. With songs like “You Make Me Feel (Mighty Real)”\, “Can’t Stop Dancing” and “You Are My Friend”\, this show tells the life story of Sylvester through HIS music and HIS point of view. Beyond all the trials\, tribulations\, glitz and glamour of his lifestyle\, he was a symbol for being FABULOUS\, but\, also\, a symbol for unapologetically being who he was. The New York Times raves it’s “A Mighty Real Time” and BroadwayWorld boasts it’s “FIERCE! What the biographical jukebox musical should be”. The words and music of this show will enter your ear\, soar through your heart and inspire your soul. It’s GUARANTEED to have EVERYONE dancing in the aisles. Broadway Star Anthony Wayne (Broadway’s “PIPPIN” [2013]\, “PRISCILLA”\, “Anything Goes” [2011]) sings\, lives and breathes life as the 1970’s Disco Singer SYLVESTER. The show\, also\, features Broadway’s Anastacia McCleskey (“PRISCILLA”; “HAIR”\, “Book Of Mormon”) and Jacqueline B. Arnold (“We Will Rock You”\, “PRISCILLA”) as The Two Tons of Fun/Weather Girls. Additional Cast includes DeAnne Stewart and Rahmel McDade. \nMIGHTY REAL is Directed by both Wayne and Kendrell Bowman with the book written by Wayne. Bowman (Celebrity Fashion Stylist for artist such as K. Michelle\, Lauriana Mae & David Banner) recreates the 1970’s Couture as Costume Designer. Lighting and Scenic Design is by Tony Nominee David Lander with Sound Design by Rafe Carlotto (Sound Associates\, Inc.).
URL:https://orsvp.com/event/mighty-real-a-fabulous-sylvester-musical/
LOCATION:Gramercy Theatre\, 127 E 23rd St\, New York\, NY\, 10010\, United States
CATEGORIES:Events,Theater & Comedy
ATTACH;FMTTYPE=image/jpeg:https://orsvp.com/wp-content/uploads/2016/03/mighty-real-a-fabulous-sylvester-musical.jpg
END:VEVENT
BEGIN:VEVENT
DTSTART;TZID=America/Halifax:20160507T200000
DTEND;TZID=America/Halifax:20160507T230000
DTSTAMP:20260420T062338
CREATED:20160408T165049Z
LAST-MODIFIED:20160408T165049Z
UID:1000000796-1462651200-1462662000@orsvp.com
SUMMARY:GRAMMY Park presents Robin Thicke & Aloe Blacc
DESCRIPTION:GRAMMY nominated artists Robin Thicke and Aloe Blacc take over the historic Kings Theatre for one special evening. Experience Robin Thicke’s biggest hits\, unique style and signature moves along with Aloe Blacc’s masterful blend of folk and soul.
URL:https://orsvp.com/event/grammy-park-presents-robin-thicke-aloe-blacc-kings-theatre-050716/
LOCATION:Kings Theatre\, 1027 Flatbush Ave\, Brooklyn\, NY\, 11226\, United States
CATEGORIES:Music
ATTACH;FMTTYPE=image/jpeg:https://orsvp.com/wp-content/uploads/2016/04/grammy-park-presents-robin-thicke-aloe-blacc-kings-theatre-050716.jpg
END:VEVENT
BEGIN:VEVENT
DTSTART;TZID=America/Halifax:20160508T120000
DTEND;TZID=America/Halifax:20160508T120000
DTSTAMP:20260420T062338
CREATED:20160408T165529Z
LAST-MODIFIED:20160408T165754Z
UID:1000000797-1462708800-1462708800@orsvp.com
SUMMARY:GRAMMY Park presents GOSPEL CONCERT
DESCRIPTION:Six-time GRAMMY Award-winner BeBe Winans\, and two-time GRAMMY Award-winner Hezekiah Walker\, join Musical Director\, Ray Chew and his inspirational band in song and celebration.\nFree and open to the public. \nTickets are available through the Get Tickets button or tickets can be picked up directly at “no charge” at The LeFrak Center at Lakeside Entrance Ticket Window beginning April 18th at 10am.
URL:https://orsvp.com/event/grammy-park-presents-gospel-concert/
LOCATION:Prospect Park Bandshell\, 62 West Dr\, Brooklyn\, NY\, 11215\, United States
CATEGORIES:Music
ATTACH;FMTTYPE=image/jpeg:https://orsvp.com/wp-content/uploads/2016/04/grammy-park-presents-gospel-concert-prospect-park-bandshell-050816.jpg
END:VEVENT
BEGIN:VEVENT
DTSTART;TZID=America/Halifax:20160508T190000
DTEND;TZID=America/Halifax:20160508T190000
DTSTAMP:20260420T062338
CREATED:20160411T171300Z
LAST-MODIFIED:20160411T200455Z
UID:1000000906-1462734000-1462734000@orsvp.com
SUMMARY:Cole Swindell: You Should Be Here Album Release
DESCRIPTION:
URL:https://orsvp.com/event/cole-swindell-you-should-be-here-album-release-gramercy-theatre-050816/
LOCATION:Gramercy Theatre\, 127 E 23rd St\, New York\, NY\, 10010\, United States
CATEGORIES:Music
ATTACH;FMTTYPE=image/jpeg:https://orsvp.com/wp-content/uploads/2016/04/cole-swindell.jpg
END:VEVENT
BEGIN:VEVENT
DTSTART;TZID=America/Halifax:20160508T190000
DTEND;TZID=America/Halifax:20160508T220000
DTSTAMP:20260420T062338
CREATED:20160408T165201Z
LAST-MODIFIED:20160408T165824Z
UID:1000000798-1462734000-1462744800@orsvp.com
SUMMARY:GRAMMY Park presents Toni Braxton
DESCRIPTION:Seven-time GRAMMY Award-winner Toni Braxton will perform some of her biggest hits electrifying the audience with her distinctive vocal blend of soulful R&B. Opening artist to be announced.
URL:https://orsvp.com/event/grammy-park-presents-toni-braxton-kings-theatre-050816/
LOCATION:Kings Theatre\, 1027 Flatbush Ave\, Brooklyn\, NY\, 11226\, United States
CATEGORIES:Music
ATTACH;FMTTYPE=image/jpeg:https://orsvp.com/wp-content/uploads/2016/04/grammy-park-presents-toni-braxton-kings-theatre-050816.jpg
END:VEVENT
BEGIN:VEVENT
DTSTART;TZID=America/Halifax:20160508T190000
DTEND;TZID=America/Halifax:20160508T220000
DTSTAMP:20260420T062338
CREATED:20160408T170637Z
LAST-MODIFIED:20160408T170637Z
UID:1000000808-1462734000-1462744800@orsvp.com
SUMMARY:GRAMMY Park Presents BIG BAND/BROADWAY
DESCRIPTION:A mix of hit songs performed by five-time GRAMMY Award-winner Christian McBride and his Big Band\, and special guest vocalists\, five-time GRAMMY Award-winner Dianne Reeves\, and the multi GRAMMY nominated Jonathan Butler and Andra Day. This evening also includes highlights from GRAMMY and Tony® Award-winning and nominated Broadway shows\, featuring some of today’s biggest stars from stage and screen.
URL:https://orsvp.com/event/grammy-park-presents-big-bandbroadway-prospect-park-bandshell-050816/
LOCATION:Prospect Park Bandshell\, 62 West Dr\, Brooklyn\, NY\, 11215\, United States
CATEGORIES:Music
ATTACH;FMTTYPE=image/jpeg:https://orsvp.com/wp-content/uploads/2016/04/grammypark.jpeg
END:VEVENT
BEGIN:VEVENT
DTSTART;TZID=UTC:20160509T183000
DTEND;TZID=UTC:20160509T230000
DTSTAMP:20260420T062338
CREATED:20160303T192113Z
LAST-MODIFIED:20160428T153451Z
UID:999999703-1462818600-1462834800@orsvp.com
SUMMARY:Sick Puppies
DESCRIPTION:
URL:https://orsvp.com/event/sick-puppies-gramercy-theatre-050916/
LOCATION:Gramercy Theatre\, 127 E 23rd St\, New York\, NY\, 10010\, United States
CATEGORIES:Contests,Music
ATTACH;FMTTYPE=image/jpeg:https://orsvp.com/wp-content/uploads/2016/03/sick-puppies-gramercy-theatre-050916.jpg
END:VEVENT
BEGIN:VEVENT
DTSTART;TZID=America/Halifax:20160510T160000
DTEND;TZID=America/Halifax:20160510T200000
DTSTAMP:20260420T062338
CREATED:20160510T140801Z
LAST-MODIFIED:20160510T140846Z
UID:1000001624-1462896000-1462910400@orsvp.com
SUMMARY:Häagen-Dazs Free Cone Day 2016
DESCRIPTION:Reward yourself with a rich and velvety scoop of Häagen-Dazs® during their free cone day May 10th. Sop by any participating store and get one free kiddie size ice cream in either a cup\, sugar cone\, or cake cone. \nClick RSVP to find a shop near you!
URL:https://orsvp.com/event/haagen-dazs-free-cone-day-2016/
LOCATION:New York\, New York\, NY\, United States
CATEGORIES:Free Events
ATTACH;FMTTYPE=image/jpeg:https://orsvp.com/wp-content/uploads/2016/05/haagen-dazs-free-cone-day-2016.jpg
END:VEVENT
BEGIN:VEVENT
DTSTART;TZID=UTC:20160510T190000
DTEND;TZID=UTC:20160510T230000
DTSTAMP:20260420T062338
CREATED:20160303T191442Z
LAST-MODIFIED:20160303T191442Z
UID:999999704-1462906800-1462921200@orsvp.com
SUMMARY:Gary Numan performing Replicas
DESCRIPTION:
URL:https://orsvp.com/event/gary-numan-performing-replicas-gramercy-theatre-051016/
LOCATION:Gramercy Theatre\, 127 E 23rd St\, New York\, NY\, 10010\, United States
CATEGORIES:Music
ATTACH;FMTTYPE=image/jpeg:https://orsvp.com/wp-content/uploads/2016/03/gary-numan.jpg
END:VEVENT
BEGIN:VEVENT
DTSTART;TZID=America/Halifax:20160511T190000
DTEND;TZID=America/Halifax:20160511T200000
DTSTAMP:20260420T062338
CREATED:20160330T144834Z
LAST-MODIFIED:20160330T144834Z
UID:1000000627-1462993200-1462996800@orsvp.com
SUMMARY:Lukas Graham - Signing
DESCRIPTION:Purchase the Lukas Graham S/T album starting at 9pm on 3/31 and receive a wristband to his signing on 5/11 at 7pm. \nAlbum must be purchased at Rough Trade NYC. Cannot be purchased online or over the phone. \nSigning 7pm / All ages
URL:https://orsvp.com/event/lukas-graham-signing-rough-trade-nyc-051116/
LOCATION:Rough Trade NYC\, 64 N 9th St\, Brooklyn\, NY\, 11249\, United States
CATEGORIES:Meet Celebrities,Signings
ATTACH;FMTTYPE=image/jpeg:https://orsvp.com/wp-content/uploads/2016/03/lukas-graham.jpg
END:VEVENT
BEGIN:VEVENT
DTSTART;TZID=UTC:20160511T190000
DTEND;TZID=UTC:20160511T230000
DTSTAMP:20260420T062338
CREATED:20160303T191459Z
LAST-MODIFIED:20160303T191600Z
UID:999999705-1462993200-1463007600@orsvp.com
SUMMARY:Gary Numan performing Pleasure Principle
DESCRIPTION:
URL:https://orsvp.com/event/gary-numan-performing-pleasure-principle-gramercy-theatre-051116/
LOCATION:Gramercy Theatre\, 127 E 23rd St\, New York\, NY\, 10010\, United States
CATEGORIES:Music
ATTACH;FMTTYPE=image/jpeg:https://orsvp.com/wp-content/uploads/2016/03/gary-numan.jpg
END:VEVENT
BEGIN:VEVENT
DTSTART;TZID=America/Halifax:20160511T190000
DTEND;TZID=America/Halifax:20160511T230000
DTSTAMP:20260420T062338
CREATED:20160322T191001Z
LAST-MODIFIED:20160510T162222Z
UID:1000000333-1462993200-1463007600@orsvp.com
SUMMARY:We Are Scientists performing With Love and Squalor
DESCRIPTION:
URL:https://orsvp.com/event/we-are-scientists-performing-with-love-and-squalor-irving-plaza-051116/
LOCATION:Irving Plaza\, 17 Irving Pl\, New York\, NY\, 10003\, United States
CATEGORIES:Contests,Music
ATTACH;FMTTYPE=image/jpeg:https://orsvp.com/wp-content/uploads/2016/03/we-are-scientists-performing-with-love-and-squalor-irving-plaza-051116.jpg
END:VEVENT
BEGIN:VEVENT
DTSTART;TZID=America/Halifax:20160512T183000
DTEND;TZID=America/Halifax:20160512T200000
DTSTAMP:20260420T062338
CREATED:20160330T142120Z
LAST-MODIFIED:20160330T143323Z
UID:1000000618-1463077800-1463083200@orsvp.com
SUMMARY:The Zombies - Acoustic Performance & Signing
DESCRIPTION:Purchase one copy of Still Got That Hunger starting on March 21st at 11am to receive one wristband good for entry to The Zombies in-store performance and signing on May 12th at 7pm! \nAlbum must be purchased at Rough Trade NYC. Cannot be purchased online or over the phone. \nDoors 6:30pm / Show 7pm / Signing after performance / All ages
URL:https://orsvp.com/event/the-zombies-acoustic-performance-signing-rough-trade-nyc-051216/
LOCATION:Rough Trade NYC\, 64 N 9th St\, Brooklyn\, NY\, 11249\, United States
CATEGORIES:Free Concerts,Music,Signings
ATTACH;FMTTYPE=image/jpeg:https://orsvp.com/wp-content/uploads/2016/03/the-zombies.jpg
END:VEVENT
BEGIN:VEVENT
DTSTART;TZID=UTC:20160512T190000
DTEND;TZID=UTC:20160512T230000
DTSTAMP:20260420T062338
CREATED:20160303T020230Z
LAST-MODIFIED:20160510T161233Z
UID:999999734-1463079600-1463094000@orsvp.com
SUMMARY:Old 97's and Heartless Bastards
DESCRIPTION:
URL:https://orsvp.com/event/old-97s-heartless-bastards-irving-plaza-051216/
LOCATION:Irving Plaza\, 17 Irving Pl\, New York\, NY\, 10003\, United States
CATEGORIES:Contests,Music
ATTACH;FMTTYPE=image/jpeg:https://orsvp.com/wp-content/uploads/2016/03/old-97s-heartless-bastards-irving-plaza-051216.jpg
END:VEVENT
BEGIN:VEVENT
DTSTART;TZID=UTC:20160512T190000
DTEND;TZID=UTC:20160512T230000
DTSTAMP:20260420T062338
CREATED:20160303T191521Z
LAST-MODIFIED:20160510T160918Z
UID:999999706-1463079600-1463094000@orsvp.com
SUMMARY:Gary Numan performing Telekon
DESCRIPTION:
URL:https://orsvp.com/event/gary-numan-performing-telekon-gramercy-theatre-051216/
LOCATION:Gramercy Theatre\, 127 E 23rd St\, New York\, NY\, 10010\, United States
CATEGORIES:Contests,Music
ATTACH;FMTTYPE=image/jpeg:https://orsvp.com/wp-content/uploads/2016/03/gary-numan.jpg
END:VEVENT
BEGIN:VEVENT
DTSTART;TZID=America/Halifax:20160512T190000
DTEND;TZID=America/Halifax:20160512T230000
DTSTAMP:20260420T062338
CREATED:20160414T171815Z
LAST-MODIFIED:20160621T145242Z
UID:1000000963-1463079600-1463094000@orsvp.com
SUMMARY:Dierks Bentley: Somewhere On A Beach Tour 2016
DESCRIPTION:
URL:https://orsvp.com/event/dierks-bentley-somewhere-beach-tour-2016-pnc-bank-arts-center-051216/
LOCATION:PNC Bank Arts Center\, 116 Garden State Pkwy\, Holmdel\, NJ\, 07733\, United States
CATEGORIES:Music
ATTACH;FMTTYPE=image/jpeg:https://orsvp.com/wp-content/uploads/2016/04/dierks-bentley-somewhere-on-a-beach-tour.jpg
END:VEVENT
END:VCALENDAR