BEGIN:VCALENDAR
VERSION:2.0
PRODID:-//ORSVP - ECPv6.6.4.2//NONSGML v1.0//EN
CALSCALE:GREGORIAN
METHOD:PUBLISH
X-WR-CALNAME:ORSVP
X-ORIGINAL-URL:https://orsvp.com
X-WR-CALDESC:Events for ORSVP
REFRESH-INTERVAL;VALUE=DURATION:PT1H
X-Robots-Tag:noindex
X-PUBLISHED-TTL:PT1H
BEGIN:VTIMEZONE
TZID:UTC
BEGIN:STANDARD
TZOFFSETFROM:+0000
TZOFFSETTO:+0000
TZNAME:UTC
DTSTART:20160101T000000
END:STANDARD
TZID:America/Halifax
BEGIN:DAYLIGHT
TZOFFSETFROM:-0400
TZOFFSETTO:-0300
TZNAME:ADT
DTSTART:20160313T060000
END:DAYLIGHT
BEGIN:STANDARD
TZOFFSETFROM:-0300
TZOFFSETTO:-0400
TZNAME:AST
DTSTART:20161106T050000
END:STANDARD
END:VTIMEZONE
BEGIN:VEVENT
DTSTART;TZID=UTC:20160618T200000
DTEND;TZID=UTC:20160618T200000
DTSTAMP:20260422T083000
CREATED:20160304T021213Z
LAST-MODIFIED:20160304T021213Z
UID:999999911-1466280000-1466280000@orsvp.com
SUMMARY:The Cure
DESCRIPTION:
URL:https://orsvp.com/event/the-cure-madison-square-garden-061816/
LOCATION:Madison Square Garden\, 4 Pennsylvania Plaza\, New York\, NY\, 10001\, United States
CATEGORIES:Music
ATTACH;FMTTYPE=image/jpeg:https://orsvp.com/wp-content/uploads/2016/03/the-cure-tour-2016.jpg
END:VEVENT
BEGIN:VEVENT
DTSTART;TZID=America/Halifax:20160618T200000
DTEND;TZID=America/Halifax:20160618T230000
DTSTAMP:20260422T083000
CREATED:20160601T192603Z
LAST-MODIFIED:20160601T192603Z
UID:1000001609-1466280000-1466290800@orsvp.com
SUMMARY:Bob the Drag Queen
DESCRIPTION:
URL:https://orsvp.com/event/bob-the-drag-queen-gramercy-theatre-061816/
LOCATION:Gramercy Theatre\, 127 E 23rd St\, New York\, NY\, 10010\, United States
CATEGORIES:Theater & Comedy
ATTACH;FMTTYPE=image/jpeg:https://orsvp.com/wp-content/uploads/2016/05/bob-the-drag-queen.jpg
END:VEVENT
BEGIN:VEVENT
DTSTART;TZID=UTC:20160618T201500
DTEND;TZID=UTC:20160618T230000
DTSTAMP:20260422T083000
CREATED:20160227T184146Z
LAST-MODIFIED:20160227T184146Z
UID:999999442-1466280900-1466290800@orsvp.com
SUMMARY:Mets Postgame Concert: Andy Grammer
DESCRIPTION:Andy Grammer will perform following the Mets – Braves 8:15 p.m. game on Saturday\, June 18. \nLos Angeles-born\, New York-raised singer-songwriter Andy Grammer has gone from hustling street performer to multi-platinum pop artist. He has released two albums Andy Grammer and Magazines or Novels producing debut top 10 hit singles including “Fine by Me” and triple-platinum No. 1 single “Honey\, I’m Good.” Most recently\, Grammer released his new pop rock hit single “Good to be Alive (Hallelujah).”
URL:https://orsvp.com/event/mets-postgame-concert-andy-grammer-citi-field-061816/
LOCATION:Citi Field\, 123-01 Roosevelt Ave\, Queens\, NY\, 11368\, United States
CATEGORIES:Free Concerts,Music
ATTACH;FMTTYPE=image/jpeg:https://orsvp.com/wp-content/uploads/2016/02/andy-grammer.jpg
END:VEVENT
BEGIN:VEVENT
DTSTART;TZID=America/Halifax:20160619T140000
DTEND;TZID=America/Halifax:20160619T170000
DTSTAMP:20260422T083000
CREATED:20160607T224153Z
LAST-MODIFIED:20160607T224153Z
UID:1000002189-1466344800-1466355600@orsvp.com
SUMMARY:Band of Skulls - In-Store Acoustic Performance
DESCRIPTION:PURCHASE 1 COPY OF BAND OF SKULLS “BY DEFAULT” ALBUM LP/CD STARTING AT 11 AM ON MAY 27TH TO RECEIVE 2 WRISTBANDS TO AN ACOUSTIC PERFORMANCE BY THE BAND ON SUNDAY\, JUNE 19th AT 2PM. \nALBUM MUST BE PURCHASED AT ROUGH TRADE NYC AND CANNOT BE PURCHASE ONLINE OR OVER THE PHONE. \nDoors 1:30 / Show 2pm / All ages \nToo many careers in rock’n’roll are sprints rather than marathons. Few artists make it past their debut album without having already squandered their life’s quota of creative ideas. Fewer still make it to four albums in without hitting some kind of existential crisis\, without losing direction\, or going on autopilot and resorting to the same old tricks to keep a dwindling fan-base interested. \nMeet Band Of Skulls\, then\, whose fourth album\,’By Default’\, is the sound of a group on the sharpest form of their career\, more engaged and focused than they’ve ever been. An album that electrifies with rock’n’roll cut back to its most vivid elements\, focusing all their brawny power and maverick invention into choruses\, hooks and expertly-sculpted three-minute bursts so unashamedly anthemic and accessible they’ll soundtrack this summer\, and far beyond.
URL:https://orsvp.com/event/band-skulls-store-acoustic-performance-roughtradenyc-061916/
LOCATION:Rough Trade NYC\, 64 N 9th St\, Brooklyn\, NY\, 11249\, United States
ATTACH;FMTTYPE=image/jpeg:https://orsvp.com/wp-content/uploads/2016/06/band.jpg
END:VEVENT
BEGIN:VEVENT
DTSTART;TZID=America/Halifax:20160619T170000
DTEND;TZID=America/Halifax:20160619T200000
DTSTAMP:20260422T083000
CREATED:20160420T200838Z
LAST-MODIFIED:20160420T200844Z
UID:1000001079-1466355600-1466366400@orsvp.com
SUMMARY:Oh Wonder
DESCRIPTION:There is a sign pinned to the wall of Oh Wonder’s recording studio in south-east London\, a pact of sorts\, signed by the band’s two members\, Josephine Vander Gucht and Anthony West\, in the winter of 2012. It isn’t a checklist or a plan so much as a setting down of shared dreams for their musical careers. “We wrote it to say that we’re dependent on one another\,” explains Josephine. “That there are things we want to achieve\, and we can help each other get there.”
URL:https://orsvp.com/event/oh-wonder-surf-lodge-061916/
LOCATION:The Surf Lodge\, 183 Edgemere St\, Montauk\, NY\, 11954\, United States
CATEGORIES:Free Concerts,Music
ATTACH;FMTTYPE=image/jpeg:https://orsvp.com/wp-content/uploads/2016/04/oh-wonder.jpg
END:VEVENT
BEGIN:VEVENT
DTSTART;TZID=UTC:20160619T200000
DTEND;TZID=UTC:20160619T200000
DTSTAMP:20260422T083000
CREATED:20160304T021219Z
LAST-MODIFIED:20160304T021219Z
UID:999999912-1466366400-1466366400@orsvp.com
SUMMARY:The Cure
DESCRIPTION:
URL:https://orsvp.com/event/the-cure-madison-square-garden-061916/
LOCATION:Madison Square Garden\, 4 Pennsylvania Plaza\, New York\, NY\, 10001\, United States
CATEGORIES:Music
ATTACH;FMTTYPE=image/jpeg:https://orsvp.com/wp-content/uploads/2016/03/the-cure-tour-2016.jpg
END:VEVENT
BEGIN:VEVENT
DTSTART;TZID=America/Halifax:20160619T200000
DTEND;TZID=America/Halifax:20160619T230000
DTSTAMP:20260422T083000
CREATED:20160519T202213Z
LAST-MODIFIED:20160601T193229Z
UID:1000002018-1466366400-1466377200@orsvp.com
SUMMARY:Jeff Ross presents Roast Battle
DESCRIPTION:
URL:https://orsvp.com/event/jeff-ross-presents-roast-battle-gramercy-theatre-061916/
LOCATION:Gramercy Theatre\, 127 E 23rd St\, New York\, NY\, 10010\, United States
CATEGORIES:Theater & Comedy
ATTACH;FMTTYPE=image/png:https://orsvp.com/wp-content/uploads/2016/05/jeff-ross-presents-roast-battle-gramercy-theatre-061916.png
END:VEVENT
BEGIN:VEVENT
DTSTART;TZID=America/Halifax:20160620T170000
DTEND;TZID=America/Halifax:20160620T230000
DTSTAMP:20260422T083000
CREATED:20160523T173125Z
LAST-MODIFIED:20160523T173148Z
UID:1000002040-1466442000-1466463600@orsvp.com
SUMMARY:Bryant Park Summer Film Festival: Ferris Bueller's Day Off
DESCRIPTION:Classic films under the stars on the big screen. Bring a blanket and sit on the lawn to enjoy great food\, friends\, plus a classic Warner Brothers cartoon before each film. \nThe lawn opens at 5:00pm for blankets and picnicking. Films begin at sunset (typically between 8pm and 9pm). \nAll packages\, bags\, briefcases\, backpacks\, etc. subject to inspection.
URL:https://orsvp.com/event/bryant-park-summer-film-festival-ferris-buellers-day-off-bryant-park-062016/
LOCATION:Bryant Park\, 476 5th Avenue\, New York\, NY\, 10018\, United States
CATEGORIES:Movies,Summer Movies
ATTACH;FMTTYPE=image/jpeg:https://orsvp.com/wp-content/uploads/2016/05/ferris-buellers-day-off.jpg
END:VEVENT
BEGIN:VEVENT
DTSTART;TZID=UTC:20160620T200000
DTEND;TZID=UTC:20160620T200000
DTSTAMP:20260422T083000
CREATED:20160304T021226Z
LAST-MODIFIED:20160304T021226Z
UID:999999913-1466452800-1466452800@orsvp.com
SUMMARY:The Cure
DESCRIPTION:
URL:https://orsvp.com/event/the-cure-madison-square-garden-062016/
LOCATION:Madison Square Garden\, 4 Pennsylvania Plaza\, New York\, NY\, 10001\, United States
CATEGORIES:Music
ATTACH;FMTTYPE=image/jpeg:https://orsvp.com/wp-content/uploads/2016/03/the-cure-tour-2016.jpg
END:VEVENT
BEGIN:VEVENT
DTSTART;TZID=America/Halifax:20160621T070000
DTEND;TZID=America/Halifax:20160621T100000
DTSTAMP:20260422T083000
CREATED:20160513T144013Z
LAST-MODIFIED:20160607T140805Z
UID:1000001834-1466492400-1466503200@orsvp.com
SUMMARY:Citi Concert Series: Meghan Trainor
DESCRIPTION:Pop star Meghan Trainor will heat up the summer concert series with a performance on Rockefeller Plaza. \nClick the Get Tickets button to enter the VIP Fan Pass lottery for your chance to win a pair of passes to enter the TODAY Plaza early and see the show up close and personal! \nCheck out the Citi Concert Series on TODAY FAQs page for details on VIP Fan Passes\, getting into the concert\, how to get there\, and more. \nView the complete Citi Concert Series on TODAY Schedule for the rest of this year’s amazing line up! \nViewing is on a first-come\, first-served basis on the TODAY plaza\, located at 48th Street between Fifth and Sixth avenues in New York City. To get the best spot\, fans should try to arrive by 5 a.m. Generally\, concerts happen rain or shine. \n(via The TODAY Show)
URL:https://orsvp.com/event/citi-concert-series-meghan-trainor-today-plaza-062116/
LOCATION:TODAY Plaza\, 30 Rockefeller Plaza\, New York\, NY\, 10111\, United States
CATEGORIES:Free Concerts,Music
ATTACH;FMTTYPE=image/jpeg:https://orsvp.com/wp-content/uploads/2016/05/meghan-trainor.jpg
END:VEVENT
BEGIN:VEVENT
DTSTART;TZID=America/Halifax:20160621T190000
DTEND;TZID=America/Halifax:20160621T230000
DTSTAMP:20260422T083000
CREATED:20160322T184649Z
LAST-MODIFIED:20160322T184649Z
UID:1000000336-1466535600-1466550000@orsvp.com
SUMMARY:Poison The Well
DESCRIPTION:
URL:https://orsvp.com/event/poison-the-well-gramercy-theatre-062116/
LOCATION:Gramercy Theatre\, 127 E 23rd St\, New York\, NY\, 10010\, United States
CATEGORIES:Music
ATTACH;FMTTYPE=image/jpeg:https://orsvp.com/wp-content/uploads/2016/03/poison-the-well.jpg
END:VEVENT
BEGIN:VEVENT
DTSTART;TZID=America/Halifax:20160621T193000
DTEND;TZID=America/Halifax:20160621T220000
DTSTAMP:20260422T083000
CREATED:20160607T223612Z
LAST-MODIFIED:20160607T223612Z
UID:1000002186-1466537400-1466546400@orsvp.com
SUMMARY:Red Bull Sound Select presents mewithoutyou
DESCRIPTION:A Red Bull Sound Select monthly showcase curated by local tastemakers and featuring great emerging music. \nImportant Info \n\nEntry is not guaranteed. Events are first come first served based on the venue’s capacity. \nArrive early for a better chance of admission. \nEVENT TERMS
URL:https://orsvp.com/event/red-bull-sound-select-presents-me-withoutyou-palisades-062116/
LOCATION:Palisades\, 906 Broadway\, Brooklyn\, NY\, 11206\, United States
ATTACH;FMTTYPE=image/jpeg:https://orsvp.com/wp-content/uploads/2016/06/me.jpg
END:VEVENT
BEGIN:VEVENT
DTSTART;TZID=UTC:20160621T200000
DTEND;TZID=UTC:20160621T230000
DTSTAMP:20260422T083000
CREATED:20160310T004805Z
LAST-MODIFIED:20160310T004805Z
UID:999999914-1466539200-1466550000@orsvp.com
SUMMARY:Ellie Goulding
DESCRIPTION:
URL:https://orsvp.com/event/ellie-goulding-madison-square-garden-062116/
LOCATION:Madison Square Garden\, 4 Pennsylvania Plaza\, New York\, NY\, 10001\, United States
CATEGORIES:Music
ATTACH;FMTTYPE=image/jpeg:https://orsvp.com/wp-content/uploads/2016/03/ellie-goulding.jpg
END:VEVENT
BEGIN:VEVENT
DTSTART;TZID=America/Halifax:20160621T200000
DTEND;TZID=America/Halifax:20160621T230000
DTSTAMP:20260422T083000
CREATED:20160414T152914Z
LAST-MODIFIED:20160414T152931Z
UID:1000000946-1466539200-1466550000@orsvp.com
SUMMARY:Dave Matthews Band
DESCRIPTION:
URL:https://orsvp.com/event/dave-matthews-band-nikon-jones-beach-theater-062116/
LOCATION:Nikon at Jones Beach Theater\, 1000 Ocean Pkwy\, Wantagh\, NY\, 11793\, United States
CATEGORIES:Music
ATTACH;FMTTYPE=image/jpeg:https://orsvp.com/wp-content/uploads/2016/04/dave-matthews-band-summer-tour-2016.jpg
END:VEVENT
BEGIN:VEVENT
DTSTART;TZID=America/Halifax:20160622T180000
DTEND;TZID=America/Halifax:20160622T200000
DTSTAMP:20260422T083000
CREATED:20160607T215110Z
LAST-MODIFIED:20160607T215110Z
UID:1000002179-1466618400-1466625600@orsvp.com
SUMMARY:SEE - In-Store Performance + Signing
DESCRIPTION:SEE comes to Looney Tunes to celebrate the release of her new EP “TIES”. SEE is an amazingly talented artist from New York and we are honored to have her coming to our store. SEE will be playing a FREE concert event at the store and then hanging around to meet fans\, sign autographs and take pictures. COME ON DOWN ITS FREE!!! If you  like what you hear please pick up her new EP “TIES” at our store that night for only $5.00
URL:https://orsvp.com/event/see-in-store-performance-signing-looneytunes-062216/
LOCATION:Looney Tunes\, 31 Brookvale Ave.\, West Babylon\, NY\, 11704\, United States
ATTACH;FMTTYPE=image/jpeg:https://orsvp.com/wp-content/uploads/2016/06/SEE.jpg
END:VEVENT
BEGIN:VEVENT
DTSTART;TZID=America/Halifax:20160622T190000
DTEND;TZID=America/Halifax:20160622T230000
DTSTAMP:20260422T083000
CREATED:20160328T192636Z
LAST-MODIFIED:20160601T193201Z
UID:1000000600-1466622000-1466636400@orsvp.com
SUMMARY:Haley Reinhart
DESCRIPTION:
URL:https://orsvp.com/event/haley-reinhart-gramercy-theatre-062216/
LOCATION:Gramercy Theatre\, 127 E 23rd St\, New York\, NY\, 10010\, United States
CATEGORIES:Contests,Music
ATTACH;FMTTYPE=image/jpeg:https://orsvp.com/wp-content/uploads/2016/03/haley-reinhart-gramercy-theatre-062216-1.jpg
END:VEVENT
BEGIN:VEVENT
DTSTART;TZID=UTC:20160622T193000
DTEND;TZID=UTC:20160622T230000
DTSTAMP:20260422T083000
CREATED:20160227T062432Z
LAST-MODIFIED:20160510T183305Z
UID:999999417-1466623800-1466636400@orsvp.com
SUMMARY:BRIC Celebrate Brooklyn Festival: Ray LaMontagne
DESCRIPTION:In 2004\, folk musician Ray LaMontagne released his first album\, Trouble. This album was a gold-certified start to a fiercely ambitious\, Grammy Award-winning\, critically praised career that’s encompassed four more albums\, several EPs\, a slew of soundtrack compilations and arresting live performances fronting a variety of ensembles. \nFor his latest album Ourobos\, which comes out March 2016\, he teamed up with My Morning Jacket’s Jim James to create a space-rocky sonic masterpiece that already has critics raving. \nWe are thrilled to hear the old and the new at the Bandshell and we hope you can join us for this special long overdue evening.
URL:https://orsvp.com/event/bric-celebrate-brooklyn-festival-ray-lamontagne-prospect-park-bandshell-062216/
LOCATION:Prospect Park Bandshell\, 62 West Dr\, Brooklyn\, NY\, 11215\, United States
CATEGORIES:Music
ATTACH;FMTTYPE=image/jpeg:https://orsvp.com/wp-content/uploads/2016/02/ray-lamontagne.jpg
END:VEVENT
BEGIN:VEVENT
DTSTART;TZID=America/Halifax:20160623T070000
DTEND;TZID=America/Halifax:20160623T070000
DTSTAMP:20260422T083000
CREATED:20160513T144109Z
LAST-MODIFIED:20160609T204019Z
UID:1000001835-1466665200-1466665200@orsvp.com
SUMMARY:Citi Concert Series: Macklemore & Ryan Lewis
DESCRIPTION:Hip-hop duo Macklemore and Ryan Lewis will continue the summer concert series with a performance on Rockefeller Plaza. \nClick the Get Tickets button to enter the VIP Fan Pass lottery for your chance to win a pair of passes to enter the TODAY Plaza early and see the show up close and personal! \nCheck out the Citi Concert Series on TODAY FAQs page for details on VIP Fan Passes\, getting into the concert\, how to get there\, and more. \nView the complete Citi Concert Series on TODAY Schedule for the rest of this year’s amazing line up! \nViewing is on a first-come\, first-served basis on the TODAY plaza\, located at 48th Street between Fifth and Sixth avenues in New York City. To get the best spot\, fans should try to arrive by 5 a.m. Generally\, concerts happen rain or shine. \n(via The TODAY Show)
URL:https://orsvp.com/event/citi-concert-series-macklemore-ryan-lewis-today-plaza-062316/
LOCATION:TODAY Plaza\, 30 Rockefeller Plaza\, New York\, NY\, 10111\, United States
CATEGORIES:Free Concerts,Music
ATTACH;FMTTYPE=image/jpeg:https://orsvp.com/wp-content/uploads/2016/05/macklemore-ryan-lewis.jpg
END:VEVENT
BEGIN:VEVENT
DTSTART;TZID=America/Halifax:20160623T180000
DTEND;TZID=America/Halifax:20160623T220000
DTSTAMP:20260422T083000
CREATED:20160404T142422Z
LAST-MODIFIED:20160405T170030Z
UID:1000000743-1466704800-1466719200@orsvp.com
SUMMARY:A$AP Ferg & Tory Lanez: The Level Up Tour
DESCRIPTION:
URL:https://orsvp.com/event/aap-ferg-tory-lanez-the-level-up-tour-irving-plaza-062316-early/
LOCATION:Irving Plaza\, 17 Irving Pl\, New York\, NY\, 10003\, United States
CATEGORIES:Music
ATTACH;FMTTYPE=image/jpeg:https://orsvp.com/wp-content/uploads/2016/04/asap-ferg-tory-lanez-the-level-up-tour.jpg
END:VEVENT
BEGIN:VEVENT
DTSTART;TZID=UTC:20160623T190000
DTEND;TZID=UTC:20160623T230000
DTSTAMP:20260422T083000
CREATED:20160304T020116Z
LAST-MODIFIED:20160324T171224Z
UID:999999915-1466708400-1466722800@orsvp.com
SUMMARY:Amy Schumer
DESCRIPTION:
URL:https://orsvp.com/event/amy-schumer-madison-square-garden-062316/
LOCATION:Madison Square Garden\, 4 Pennsylvania Plaza\, New York\, NY\, 10001\, United States
CATEGORIES:Events,Theater & Comedy
ATTACH;FMTTYPE=image/jpeg:https://orsvp.com/wp-content/uploads/2016/03/amy-schumer.jpg
END:VEVENT
BEGIN:VEVENT
DTSTART;TZID=America/Halifax:20160623T190000
DTEND;TZID=America/Halifax:20160623T230000
DTSTAMP:20260422T083000
CREATED:20160510T203815Z
LAST-MODIFIED:20160510T203815Z
UID:1000001710-1466708400-1466722800@orsvp.com
SUMMARY:BRIC Celebrate Brooklyn Festival: Alvvays
DESCRIPTION:ALVVAYS\, an enchanting jangle pop quintet from Toronto\, “creates the sound of pristine pop music blasted through cheap\, blown-out headphones…you sense both the sadness and the liberation of knowing that nothing lasts forever.” (Pitchfork) Formed by frontwoman Molly Rankin (daughter of John Morris Rankin of the Celtic folk collective the Rankin Family) in 2011\, Alvvays released its self-titled debut on Royal Mountain Records (Canada)\, Polyvinyl Records (US)\, and Transgressive Records (Europe) in July 2014. Rolling Stone called it an “indie-pop wonder\,” and it debuted at #1 on the US college charts in August–the first debut album to achieve this feat. \nMatt Mondanile’s DUCKTAILS “approximates the gentle comfort of a Sunday afternoon” (Spin) with a breezy approach reminiscent of his other band\, Real Estate. Originally a solo recording project\, the psych-pop continues to pick up momentum and members; 2015’s St. Catherine (Domino) is its fifth studio album to date. \nBrooklyn’s own BIG THIEF is “everything you could possibly want from modern folk-tinged rock and more.” (Vice) Led by the gripping singer and guitarist Adrianne Lenker\, the band’s debut arrived this May on Conor Oberst’s Saddle Creek label.
URL:https://orsvp.com/event/bric-celebrate-brooklyn-festival-alvvays-prospect-park-bandshell-062316/
LOCATION:Prospect Park Bandshell\, 62 West Dr\, Brooklyn\, NY\, 11215\, United States
CATEGORIES:Free Concerts,Music
ATTACH;FMTTYPE=image/jpeg:https://orsvp.com/wp-content/uploads/2016/05/alvvays-e1462912670260.jpg
END:VEVENT
BEGIN:VEVENT
DTSTART;TZID=America/Halifax:20160623T193000
DTEND;TZID=America/Halifax:20160623T230000
DTSTAMP:20260422T083000
CREATED:20160330T200354Z
LAST-MODIFIED:20160330T200354Z
UID:1000000648-1466710200-1466722800@orsvp.com
SUMMARY:Mark Lanegan
DESCRIPTION:
URL:https://orsvp.com/event/mark-lanegan-gramercy-theatre-062316/
LOCATION:Gramercy Theatre\, 127 E 23rd St\, New York\, NY\, 10010\, United States
CATEGORIES:Music
ATTACH;FMTTYPE=image/jpeg:https://orsvp.com/wp-content/uploads/2016/03/mark-lanegan-e1459368227290.jpg
END:VEVENT
BEGIN:VEVENT
DTSTART;TZID=America/Halifax:20160623T223000
DTEND;TZID=America/Halifax:20160624T010000
DTSTAMP:20260422T083000
CREATED:20160405T170026Z
LAST-MODIFIED:20160405T170026Z
UID:1000000755-1466721000-1466730000@orsvp.com
SUMMARY:A$AP Ferg & Tory Lanez: The Level Up Tour
DESCRIPTION:
URL:https://orsvp.com/event/aap-ferg-tory-lanez-the-level-up-tour-irving-plaza-062316-late/
LOCATION:Irving Plaza\, 17 Irving Pl\, New York\, NY\, 10003\, United States
CATEGORIES:Music
ATTACH;FMTTYPE=image/jpeg:https://orsvp.com/wp-content/uploads/2016/04/asap-ferg-tory-lanez-the-level-up-tour.jpg
END:VEVENT
BEGIN:VEVENT
DTSTART;TZID=America/Halifax:20160624T060000
DTEND;TZID=America/Halifax:20160624T090000
DTSTAMP:20260422T083000
CREATED:20160607T183121Z
LAST-MODIFIED:20160621T191020Z
UID:1000002142-1466748000-1466758800@orsvp.com
SUMMARY:All-American Summer Concert Series: Trent Harmon
DESCRIPTION:Crowned the final American Idol on the series’ finale\, Trent Harmon wowed audiences with his soulful debut single “Falling.” \nThe Fox & Friends All-American Summer Concert Series takes place every Friday on the Plaza of the Fox building at 48th St. & 6th Ave. from 6 AM to 9 AM. Free Famous Dave’s BBQ will also be provided. \nCheck out the rest of the Fox & Friends All-American Summer Concert Series line up here: https://orsvp.com/events/tag/all-american-summer-concert-series/ \n(via Fox News)
URL:https://orsvp.com/event/american-summer-concert-series-trent-harmon-fox-news-headquarters-062416/
LOCATION:Fox News Headquarters\, 1211 Avenue of the Americas\, New York\, NY\, 10036\, United States
CATEGORIES:Free Concerts,Free Food,Music
ATTACH;FMTTYPE=image/jpeg:https://orsvp.com/wp-content/uploads/2016/06/trent-harmon.jpeg
END:VEVENT
BEGIN:VEVENT
DTSTART;TZID=America/Halifax:20160624T070000
DTEND;TZID=America/Halifax:20160624T090000
DTSTAMP:20260422T083000
CREATED:20160519T152948Z
LAST-MODIFIED:20160519T161154Z
UID:1000001974-1466751600-1466758800@orsvp.com
SUMMARY:GMA Summer Concert Series: Brad Paisley
DESCRIPTION:This concert is free and open to the public and will take place live during “Good Morning America\,” Friday from 7 AM to 9 AM. \nViewers interested in joining “GMA” in Central Park are encouraged to arrive at Rumsey Playfield via the 72nd street entrance on Fifth Avenue at 6:00 AM when the park opens to the public.
URL:https://orsvp.com/event/gma-summer-concert-series-brad-paisley-summerstage-062416/
LOCATION:NY
CATEGORIES:Free Concerts,Music
ATTACH;FMTTYPE=image/jpeg:https://orsvp.com/wp-content/uploads/2016/05/brad-paisley.jpg
END:VEVENT
BEGIN:VEVENT
DTSTART;TZID=America/Halifax:20160624T070000
DTEND;TZID=America/Halifax:20160624T210000
DTSTAMP:20260422T083000
CREATED:20160602T203138Z
LAST-MODIFIED:20160612T153616Z
UID:1000002130-1466751600-1466802000@orsvp.com
SUMMARY:Citi Concert Series: Steven Tyler
DESCRIPTION:Rock legend Steven Tyler will continue our summer concert series fun with a performance on Rockefeller Plaza. Here’s what you need to know to get tickets and more! \nClick the Get Tickets button to enter the VIP Fan Pass lottery for your chance to win a pair of passes to enter the TODAY Plaza early and see the show up close and personal! \nCheck out the Citi Concert Series on TODAY FAQs page for details on VIP Fan Passes\, getting into the concert\, how to get there\, and more. \nView the complete Citi Concert Series on TODAY Schedule for the rest of this year’s amazing line up! \nViewing is on a first-come\, first-served basis on the TODAY plaza\, located at 48th Street between Fifth and Sixth avenues in New York City. To get the best spot\, fans should try to arrive by 5 a.m. Generally\, concerts happen rain or shine. \n(via The TODAY Show)
URL:https://orsvp.com/event/citi-concert-series-steven-tyler-today-plaza-062416/
LOCATION:TODAY Plaza\, 30 Rockefeller Plaza\, New York\, NY\, 10111\, United States
CATEGORIES:Free Concerts,Music
ATTACH;FMTTYPE=image/jpeg:https://orsvp.com/wp-content/uploads/2016/06/steven-tyler.jpg
END:VEVENT
BEGIN:VEVENT
DTSTART;TZID=UTC:20160624T183000
DTEND;TZID=UTC:20160624T230000
DTSTAMP:20260422T083000
CREATED:20160304T201251Z
LAST-MODIFIED:20160512T201015Z
UID:999999958-1466793000-1466809200@orsvp.com
SUMMARY:Modern Baseball
DESCRIPTION:Modern Baseball formed at Drexel University in Philadelphia in 2012 where songwriters Brendan Lukens and Jake Ewald began writing catchy pop-punk-influenced indie rock\, with nods to the likes of Say Anything and Motion City Soundtrack alongside the lyricism of Dashboard Confessional and the wit of the Front Bottoms. The high school friends started out as an acoustic act\, but after meeting Sean Huber (drums) and Ian Farmer (bass)\, they became a four-piece. Their debut record\, Sports\, gained local traction and eventually\, in 2013\, online buzz started to pick up for their lo-fi songs\, which captured the awkwardness of teenagers surrounded by social media. The quartet remained at university while taking time out so they could to tour\, but that changed when they were offered a support slot with fellow Philly-based outfit the Wonder Years. They soon penned a deal with Run for Cover Records and returned to the studio to record their follow-up\, You’re Gonna Miss It All\, which appeared in 2014. An EP\, MOBO Presents: The Perfect Cast EP featuring Modern Baseball\, arrived in 2015 via Lame-O Records\, with Holy Ghost\, the band’s third studio long player\, slated to follow in May 2016. Having enlisted an outside producer for the first time in the shape of Joe Reinhardt\, Holy Ghost saw them unleashing their inner stadium rockers\, channeling U2 and Aretha Franklin to make their biggest\, most epic-sounding record to date. ~ Scott Kerr\, Rovi
URL:https://orsvp.com/event/modern-baseball-irving-plaza-062416/
LOCATION:Irving Plaza\, 17 Irving Pl\, New York\, NY\, 10003\, United States
CATEGORIES:Contests,Music
ATTACH;FMTTYPE=image/jpeg:https://orsvp.com/wp-content/uploads/2016/03/modern-baseball-irving-plaza-062416-062516.jpg
END:VEVENT
BEGIN:VEVENT
DTSTART;TZID=America/Halifax:20160624T190000
DTEND;TZID=America/Halifax:20160624T220000
DTSTAMP:20260422T083000
CREATED:20160422T153955Z
LAST-MODIFIED:20160422T153955Z
UID:1000001185-1466794800-1466805600@orsvp.com
SUMMARY:The Met Opera’s Summer Recital Series
DESCRIPTION:The Met Opera’s Summer Recital Series returns to Pier 1\, with a concert filled with favorite arias and duets\, featuring Met artists Angel Blue\, Ben Bliss\, and Alexey Lavrov\, with pianist Dan Saunders.
URL:https://orsvp.com/event/met-operas-summer-recital-series-brooklyn-bridge-park-pier-1-062416/
LOCATION:Brooklyn Bridge Park – Pier 1\, 102 Furman Street\, Brooklyn\, NY\, 11201\, United States
CATEGORIES:Free Concerts,Music
ATTACH;FMTTYPE=image/jpeg:https://orsvp.com/wp-content/uploads/2016/04/met-opers-summer-recital-series-brooklyn-bridge-park-pier-1.jpg
END:VEVENT
BEGIN:VEVENT
DTSTART;TZID=America/Halifax:20160624T193000
DTEND;TZID=America/Halifax:20160624T230000
DTSTAMP:20260422T083000
CREATED:20160510T204028Z
LAST-MODIFIED:20160510T204028Z
UID:1000001711-1466796600-1466809200@orsvp.com
SUMMARY:BRIC Celebrate Brooklyn Festival: ¡CUBANISMO!
DESCRIPTION:Led by trumpeter Jesús Alémañy\, the sizzling dance band ¡CUBANISMO! approaches Cuban music with both a reverence for tradition and an outward-reaching flare\, punctuating every performance with a “rhythmic kick and a sense of adventure.” (AllMusic) The group’s founding was fortuitous timing: Alémañy\, a prodigy who attended Havana’s Conservatorio Amadeo Roldan and joined the great son group Sierra Maestra at 15\, had moved to London where he connected with the British producer and founder of Hannibal Records Joe Boyd. With Boyd’s encouragement\, Alémañy returned to Havana to organize an all-star jam session to be recorded; the result was the 1996 self-titled debut\, an extraordinary album that caught the collective imagination at a moment when Cuban music was finding a new level of global popularity. Through multiple world tours\, lineup changes\, and subsequent records\, ¡Cubanismo! has remained one of the most popular and exciting standard bearers of their country’s music–“a modern\, younger Buena Vista Social Club.” (AllMusic) \nBorn in Congo of Angolan descent and now based in Los Angeles\, the singer and bandleader RICARDO LEMVO and his sensational band MAKINA LOCA play a fiery concoction of soukous\, kizomba\, samba\, and salsa “a blend of Cuban and Central African traditions that is seamless and organic—and infectious.” (LA Times)
URL:https://orsvp.com/event/bric-celebrate-brooklyn-festival-cubanismo-prospect-park-bandshell-062416/
LOCATION:Prospect Park Bandshell\, 62 West Dr\, Brooklyn\, NY\, 11215\, United States
CATEGORIES:Free Concerts,Music
ATTACH;FMTTYPE=image/jpeg:https://orsvp.com/wp-content/uploads/2016/05/cubanismo-e1462912819533.jpg
END:VEVENT
BEGIN:VEVENT
DTSTART;TZID=America/Halifax:20160624T200000
DTEND;TZID=America/Halifax:20160624T200000
DTSTAMP:20260422T083000
CREATED:20160414T191308Z
LAST-MODIFIED:20160414T191321Z
UID:1000000947-1466798400-1466798400@orsvp.com
SUMMARY:Sting & Peter Gabriel - Rock Paper Scissors Tour
DESCRIPTION:
URL:https://orsvp.com/event/sting-peter-gabriel-rock-paper-scissors-tour/
LOCATION:Nikon at Jones Beach Theater\, 1000 Ocean Pkwy\, Wantagh\, NY\, 11793\, United States
CATEGORIES:Music
ATTACH;FMTTYPE=image/jpeg:https://orsvp.com/wp-content/uploads/2016/04/sting-peter-gabriel-rock-paper-scissors-tour-nikon-at-jones-beach-theater-062416.jpg
END:VEVENT
END:VCALENDAR