BEGIN:VCALENDAR
VERSION:2.0
PRODID:-//ORSVP - ECPv6.6.4.2//NONSGML v1.0//EN
CALSCALE:GREGORIAN
METHOD:PUBLISH
X-ORIGINAL-URL:https://orsvp.com
X-WR-CALDESC:Events for ORSVP
REFRESH-INTERVAL;VALUE=DURATION:PT1H
X-Robots-Tag:noindex
X-PUBLISHED-TTL:PT1H
BEGIN:VTIMEZONE
TZID:America/Halifax
BEGIN:DAYLIGHT
TZOFFSETFROM:-0400
TZOFFSETTO:-0300
TZNAME:ADT
DTSTART:20150308T060000
END:DAYLIGHT
BEGIN:STANDARD
TZOFFSETFROM:-0300
TZOFFSETTO:-0400
TZNAME:AST
DTSTART:20151101T050000
END:STANDARD
END:VTIMEZONE
BEGIN:VEVENT
DTSTART;TZID=America/Halifax:20150607T190000
DTEND;TZID=America/Halifax:20150607T190000
DTSTAMP:20260420T061723
CREATED:20150518T224941Z
LAST-MODIFIED:20160525T143516Z
UID:13860-1433703600-1433703600@orsvp.com
SUMMARY:The Surf Lodge: The Flaming Lips
DESCRIPTION:The Flaming Lips will be performing for free on the beach in Montauk as part of this year’s The Surf Lodge Summer Concert Series!
URL:https://orsvp.com/event/the-surf-lodge-the-flaming-lips/
LOCATION:NY
CATEGORIES:Free Concerts,Free Events,Music
ATTACH;FMTTYPE=:
END:VEVENT
BEGIN:VEVENT
DTSTART;TZID=America/Halifax:20150608T210000
DTEND;TZID=America/Halifax:20150608T230000
DTSTAMP:20260420T061723
CREATED:20150608T153356Z
LAST-MODIFIED:20160525T144344Z
UID:14775-1433797200-1433804400@orsvp.com
SUMMARY:Northside Festival 2015: Film Opening Night Party
DESCRIPTION:Northside Film’s Opening Night Party will kick off the entire 2015 Northside Festival. Come lift a glass to all the filmmakers screening at this year’s festival and brace yourself for the next 7 days of film\, music and innovation.
URL:https://orsvp.com/event/northside-festival-2015-film-opening-night-party/
LOCATION:Nitehawk Cinema\, 136 Metropolitan Avenue\, Brooklyn\, NY\, 11249\, United States
CATEGORIES:Free Events,Open Bars,RSVP Required
ATTACH;FMTTYPE=:
END:VEVENT
BEGIN:VEVENT
DTSTART;TZID=America/Halifax:20150609T190000
DTEND;TZID=America/Halifax:20150609T190000
DTSTAMP:20260420T061723
CREATED:20150528T204434Z
LAST-MODIFIED:20160525T145010Z
UID:14297-1433876400-1433876400@orsvp.com
SUMMARY:The Karma Killers 'Strange Therapy EP' Release Party
DESCRIPTION:Please join us for a special performance by The Karma Killers on Tuesday\, June 9th – 7:00PM at Arlene’s Grocery!
URL:https://orsvp.com/event/the-karma-killers-strange-therapy-ep-release-party/
LOCATION:NY
CATEGORIES:Music
ATTACH;FMTTYPE=:
END:VEVENT
BEGIN:VEVENT
DTSTART;TZID=America/Halifax:20150609T190000
DTEND;TZID=America/Halifax:20150609T190000
DTSTAMP:20260420T061723
CREATED:20150609T184754Z
LAST-MODIFIED:20160525T143516Z
UID:14815-1433876400-1433876400@orsvp.com
SUMMARY:Mike Posner - Free "Ninja Show"
DESCRIPTION:Mike Posner will be performing a few acoustic songs in Bryant Park tonight at 7pm. \n\n\nATTENTION: Tonight’s ninja show is being moved to Washington Square Park. 7pm. The other park said I have to pay to play there. \n— Mike Posner (@MikePosner) June 9\, 2015
URL:https://orsvp.com/event/mike-posner-free-ninja-show/
LOCATION:NY
CATEGORIES:Free Concerts,Music
ATTACH;FMTTYPE=:
END:VEVENT
BEGIN:VEVENT
DTSTART;TZID=America/Halifax:20150609T190000
DTEND;TZID=America/Halifax:20150609T210000
DTSTAMP:20260420T061723
CREATED:20150603T123946Z
LAST-MODIFIED:20160525T144344Z
UID:14617-1433876400-1433883600@orsvp.com
SUMMARY:Men's Journal Summer Essentials Party
DESCRIPTION:Men’s Journal invites you to join them in celebration of their June issue and to kick off the summer season! \nThe Men’s Journal Summer Essentials Party will be going down June 9th on the Brass Monkey Roof Terrace from 7-9pm. \nThere will be hors d’oeuvres and cocktails served\, so you must be 21 or older to attend. \nRSVP is required to MJRSVP@MENSJOURNAL.COM
URL:https://orsvp.com/event/mens-journal-summer-essentials-party/
LOCATION:Brass Monkey Roof Terrace\, 55 Little West 12th Street\, New York\, NY\, 10014\, United States
CATEGORIES:Free Events,Free Food,Open Bars,RSVP Required
ATTACH;FMTTYPE=:
END:VEVENT
BEGIN:VEVENT
DTSTART;TZID=America/Halifax:20150609T200000
DTEND;TZID=America/Halifax:20150609T200000
DTSTAMP:20260420T061723
CREATED:20150527T192143Z
LAST-MODIFIED:20160525T144238Z
UID:14194-1433880000-1433880000@orsvp.com
SUMMARY:Doug Loves Movies
DESCRIPTION:
URL:https://orsvp.com/event/doug-loves-movies-irving-plaza-060915/
LOCATION:NY
CATEGORIES:Theater & Comedy
ATTACH;FMTTYPE=:
END:VEVENT
BEGIN:VEVENT
DTSTART;TZID=America/Halifax:20150610T200000
DTEND;TZID=America/Halifax:20150610T220000
DTSTAMP:20260420T061723
CREATED:20150609T185407Z
LAST-MODIFIED:20160525T142645Z
UID:14814-1433966400-1433973600@orsvp.com
SUMMARY:Northside Innovation Kick Off Party powered by Dell & Intel
DESCRIPTION:Northside Innovation Festival is here! \nNorthside Innovation Festival celebrates technologists\, entrepreneurs\, and creators who are changing our shared experience. Original programming across three verticals–entrepreneurship\, content and design–includes panels and fireside chats from the world’s innovation leaders. \nCome check out new technologies at the Dell Innovators Lounge\, a place to hear from leaders in the industry. Enjoy a cold beer\, network\, and discovery why Northside Innovation is way more than your average tech conference. \nAll are welcome\, RSVP required.
URL:https://orsvp.com/event/northside-innovation-kick-off-party-powered-by-dell-intel/
LOCATION:Brooklyn Brewery\, 79 North 11th Street\, Brooklyn\, NY\, 11249\, United States
CATEGORIES:Free Events,RSVP Required
ATTACH;FMTTYPE=:
END:VEVENT
BEGIN:VEVENT
DTSTART;TZID=America/Halifax:20150610T210000
DTEND;TZID=America/Halifax:20150610T230000
DTSTAMP:20260420T061723
CREATED:20150501T154336Z
LAST-MODIFIED:20160525T142645Z
UID:13125-1433970000-1433977200@orsvp.com
SUMMARY:Hoboken's Movies Under the Stars: Oceans 11
DESCRIPTION:Movie screenings begin at 9pm in June and July and around at 8:15pm in August. Come early for the best seating and bring a blanket or comfortable low-back chair. You may bring a picnic\, but alcohol consumption is not permitted (and subject to a fine). \n\nDanny Ocean gathers a group of his World War II compatriots to pull off the ultimate Las Vegas heist. Together the eleven friends plan to rob five Las Vegas casinos in one night. \nStarring: Frank Sinatra\, Dean Martin\, Sammy Davis Jr.
URL:https://orsvp.com/event/hobokens-movies-under-the-stars-oceans-11/
LOCATION:Pier A Park\, First St. and Frank Sinatra Drive\, Hoboken\, NJ\, 07030\, United States
CATEGORIES:Free Events,Free Summer Movies 2015
ATTACH;FMTTYPE=:
END:VEVENT
BEGIN:VEVENT
DTSTART;TZID=America/Halifax:20150610T210000
DTEND;TZID=America/Halifax:20150611T000000
DTSTAMP:20260420T061723
CREATED:20150606T140242Z
LAST-MODIFIED:20160525T144344Z
UID:14735-1433970000-1433980800@orsvp.com
SUMMARY:FLOOD Magazine #1 Launch Party
DESCRIPTION:RSVP: FLOOD #1 Launch Party in Brooklyn \nFeaturing guest DJ sets from Nick Gazin and Helpers \nHey New York! You’re invited to join us at Kinfolk in Brooklyn this Wednesday (from 9 p.m. to 12 a.m.) to celebrate the release of FLOOD #1. \nOn Wednesday\, June 10\, pick up a copy of our premiere issue while you listen to exclusive DJ sets by Nick Gazin and Helpers and sip on drinks provided by Tito’s Vodka. Entry is first come\, first served\, and strictly 21+.
URL:https://orsvp.com/event/flood-magazine-1-launch-party/
LOCATION:Kinfolk\, 94 Wythe Street\, Brooklyn\, NY\, 11249\, United States
CATEGORIES:DJs,Free Events,Open Bars,RSVP Required
ATTACH;FMTTYPE=:
END:VEVENT
BEGIN:VEVENT
DTSTART;TZID=America/Halifax:20150611T080000
DTEND;TZID=America/Halifax:20150611T230000
DTSTAMP:20260420T061723
CREATED:20150401T171736Z
LAST-MODIFIED:20160525T142645Z
UID:11759-1434009600-1434063600@orsvp.com
SUMMARY:Summer on the Hudson Picture Show: Hyde Park on Hudson
DESCRIPTION:Bring a blanket and come over to the lawn for a film brought to you by The Chatsworth on 72nd St. \nToday’s film is Hyde Park on Hudson. In June 1939\, President Franklin Delano Roosevelt and his wife\, Eleanor\, host the King and Queen of England for a weekend at the Roosevelt home at Hyde Park on Hudson in upstate New York in the first-ever visit of a reigning English monarch to America. \nGround seating only at this event and seating is limited\, unreserved\, and available on a first-come\, first-served basis beginning 1-2 hours before the event. If there is heavy rain at the time of the event\, the event will be cancelled. Up to the minute cancelation information will be posted on our twitter @summeronhuhdson and if the event is canceled the Parks calendar website will be updated to reflect that (about 2 hours before the event/1 hour before wellness classes). No rain dates are scheduled. If attendance reaches maximum capacity management reserves the right to close participation. No rain dates are scheduled. If attendance reaches maximum capacity management reserves the right to close participation.
URL:https://orsvp.com/event/summer-on-the-hudson-hyde-park-on-hudson/
LOCATION:Riverside Park – 72nd Track and Lawn\, Henry Hudson Pkwy\, New York\, NY\, 10024\, United States
CATEGORIES:Free Events,Free Summer Movies 2015
ATTACH;FMTTYPE=:
END:VEVENT
BEGIN:VEVENT
DTSTART;TZID=America/Halifax:20150611T173000
DTEND;TZID=America/Halifax:20150611T203000
DTSTAMP:20260420T061723
CREATED:20150521T143840Z
LAST-MODIFIED:20160525T143516Z
UID:14061-1434043800-1434054600@orsvp.com
SUMMARY:Northside Festival 2015: Luna
DESCRIPTION:Luna is an official Northside Festival 2015 show. \nSET TIMES:\nMusic starts at 6:30 PM \nLuna (7:30pm) \nw/ Special Guests TBA \nWhile the show is free\, RSVPs are required for entry on a first-come\, first-served basis. Please note\, a RSVP does not ensure admission\, so it’d be best to arrive at the show early. Premium and Music badge-holders are guaranteed entry\, however\, so there’s no need to RSVP if you purchase a badge. You’ll automatically have a spot at the show.
URL:https://orsvp.com/event/northside-festival-2015-luna/
LOCATION:NY
CATEGORIES:Free Concerts,Music,RSVP Required
ATTACH;FMTTYPE=:
END:VEVENT
BEGIN:VEVENT
DTSTART;TZID=America/Halifax:20150611T180000
DTEND;TZID=America/Halifax:20150611T180000
DTSTAMP:20260420T061723
CREATED:20150520T180049Z
LAST-MODIFIED:20160525T145010Z
UID:13985-1434045600-1434045600@orsvp.com
SUMMARY:Northside Festival 2015: Femi Kuti & The Positive Force\, EMEFE\, DJ Greg Caz
DESCRIPTION:Mo’ Beat & Okayafrica Present Femi Kuti & The Positive Force\, EMEFE\, DJ Greg Caz.
URL:https://orsvp.com/event/northside-festival-2015-femi-kuti-the-positive-force-emefe-dj-greg-caz/
LOCATION:NY
CATEGORIES:Music
ATTACH;FMTTYPE=:
END:VEVENT
BEGIN:VEVENT
DTSTART;TZID=America/Halifax:20150611T190000
DTEND;TZID=America/Halifax:20150611T190000
DTSTAMP:20260420T061723
CREATED:20150520T180039Z
LAST-MODIFIED:20160525T145010Z
UID:13970-1434049200-1434049200@orsvp.com
SUMMARY:Northside Festival 2015: CULTFEVER\, The Midnight Hollow\, Adam Torres\, Leggy
DESCRIPTION:Join Pancakes & Whiskey Presents on Thursday\, June 11th at Union Pool for their Official Northside Festival showcase!\nCULTFEVER\nThe Midnight Hollow\nadam torres\nLeggy
URL:https://orsvp.com/event/northside-festival-2015-the-midnight-hollow-cultfever-adam-torres-leggy/
LOCATION:Union Pool\, 484 Union Ave\, Brooklyn\, NY\, 11211\, United States
CATEGORIES:Music
ATTACH;FMTTYPE=:
END:VEVENT
BEGIN:VEVENT
DTSTART;TZID=America/Halifax:20150611T190000
DTEND;TZID=America/Halifax:20150611T190000
DTSTAMP:20260420T061723
CREATED:20150520T180105Z
LAST-MODIFIED:20160525T145010Z
UID:14006-1434049200-1434049200@orsvp.com
SUMMARY:Northside Festival 2015: The Business
DESCRIPTION:Rocks Off! presents a Northside Festival event: The Business.
URL:https://orsvp.com/event/northside-festival-2015-the-business/
LOCATION:St. Vitus\, 1120 Manhattan Avenue\, Brooklyn\, NY\, 11222\, United States
CATEGORIES:Music
ATTACH;FMTTYPE=:
END:VEVENT
BEGIN:VEVENT
DTSTART;TZID=America/Halifax:20150611T190000
DTEND;TZID=America/Halifax:20150611T210000
DTSTAMP:20260420T061723
CREATED:20150408T184152Z
LAST-MODIFIED:20160525T143515Z
UID:11910-1434049200-1434056400@orsvp.com
SUMMARY:SummerStage 2015: Duck Down 20-Year Anniversary BBQ
DESCRIPTION:Boot Camp Clik & Friends\, Kirk Knight & CJ Fly of Pro Era\, Chelsea Reject & Statik Selektah
URL:https://orsvp.com/event/summerstage-2015-duck-down-20-year-anniversary-bbq/
LOCATION:Betsy Head Memorial Playground\, Betsy Head Park\, Brooklyn\, NY\, 11212\, United States
CATEGORIES:Free Concerts,Music
ATTACH;FMTTYPE=:
END:VEVENT
BEGIN:VEVENT
DTSTART;TZID=America/Halifax:20150611T200000
DTEND;TZID=America/Halifax:20150611T200000
DTSTAMP:20260420T061723
CREATED:20150520T180041Z
LAST-MODIFIED:20160525T145010Z
UID:13973-1434052800-1434052800@orsvp.com
SUMMARY:Northside Festival 2015: Lower Dens
DESCRIPTION:
URL:https://orsvp.com/event/northside-festival-2015-lower-dens/
LOCATION:NY
CATEGORIES:Music
ATTACH;FMTTYPE=:
END:VEVENT
BEGIN:VEVENT
DTSTART;TZID=America/Halifax:20150611T200000
DTEND;TZID=America/Halifax:20150611T200000
DTSTAMP:20260420T061723
CREATED:20150520T180043Z
LAST-MODIFIED:20160525T145010Z
UID:13977-1434052800-1434052800@orsvp.com
SUMMARY:Northside Festival 2015: Drop Electric\, The Soil & the Sun\, Frances Cone
DESCRIPTION:Limited admission available to Northside Badge Holders on first come\, first serve basis.
URL:https://orsvp.com/event/northside-festival-2015-drop-electric-the-soil-the-sun-frances-cone/
LOCATION:NY
CATEGORIES:Music
ATTACH;FMTTYPE=:
END:VEVENT
BEGIN:VEVENT
DTSTART;TZID=America/Halifax:20150611T200000
DTEND;TZID=America/Halifax:20150611T200000
DTSTAMP:20260420T061723
CREATED:20150520T180059Z
LAST-MODIFIED:20160525T145009Z
UID:13997-1434052800-1434052800@orsvp.com
SUMMARY:Northside Festival 2015: Ed Schrader's Music Beat\, Guerilla Toss\, PC Worship
DESCRIPTION:
URL:https://orsvp.com/event/northside-festival-2015-ed-schraders-music-beat-guerilla-toss-pc-worship/
LOCATION:Palisades\, 906 Broadway\, Brooklyn\, NY\, 11206\, United States
CATEGORIES:Music
ATTACH;FMTTYPE=:
END:VEVENT
BEGIN:VEVENT
DTSTART;TZID=America/Halifax:20150611T200000
DTEND;TZID=America/Halifax:20150611T200000
DTSTAMP:20260420T061723
CREATED:20150520T180102Z
LAST-MODIFIED:20160525T145009Z
UID:14001-1434052800-1434052800@orsvp.com
SUMMARY:Northside Festival 2015: Jacco Gardner
DESCRIPTION:
URL:https://orsvp.com/event/northside-festival-2015-jacco-gardner/
LOCATION:NY
CATEGORIES:Music
ATTACH;FMTTYPE=:
END:VEVENT
BEGIN:VEVENT
DTSTART;TZID=America/Halifax:20150611T200000
DTEND;TZID=America/Halifax:20150611T200000
DTSTAMP:20260420T061723
CREATED:20150520T180106Z
LAST-MODIFIED:20160525T145009Z
UID:14008-1434052800-1434052800@orsvp.com
SUMMARY:Northside Festival 2015: Diet Cig\, Charly Bliss\, Attic Abasement\, Rivergazer\, Pupppy
DESCRIPTION:Father/Daughter Records Northside Showcase at Shea Stadium featuring Diet Cig\, Charly Bliss\, Attic Abasement\, Rivergazer\, Pupppy.
URL:https://orsvp.com/event/northside-festival-2015-diet-cig-charly-bliss-attic-abasement-rivergazer-pupppy/
LOCATION:NY
CATEGORIES:Music
ATTACH;FMTTYPE=:
END:VEVENT
BEGIN:VEVENT
DTSTART;TZID=America/Halifax:20150611T200000
DTEND;TZID=America/Halifax:20150611T223000
DTSTAMP:20260420T061723
CREATED:20150609T191144Z
LAST-MODIFIED:20160525T144344Z
UID:14821-1434052800-1434061800@orsvp.com
SUMMARY:Converse "Made By You"
DESCRIPTION:Join us at the Converse SoHo Store for a celebration of self-expression told through Chuck Taylor All Star. \nThere will be food\, drinks\, a DJ set by Sammy Bananas\, a performance by Buscabulla … and a photobooth. Yup\, it’s that kind of party. \nIn the spirit of the event\, wear or bring your favorite pair of Chucks (regardless of condition and smell) to have your one-of-a-kind “Made by You” sneaker portrait taken.
URL:https://orsvp.com/event/converse-made-by-you/
LOCATION:Converse Store – SoHo\, 560 Broadway\, New York\, NY\, 10012\, United States
CATEGORIES:DJs,Free Concerts,Free Events,Free Food,Music,Open Bars,RSVP Required
ATTACH;FMTTYPE=:
END:VEVENT
BEGIN:VEVENT
DTSTART;TZID=America/Halifax:20150611T230000
DTEND;TZID=America/Halifax:20150611T230000
DTSTAMP:20260420T061723
CREATED:20150520T180050Z
LAST-MODIFIED:20160525T145009Z
UID:13986-1434063600-1434063600@orsvp.com
SUMMARY:Northside Festival 2015: DJ Questlove Presents Bowl Train
DESCRIPTION:Part of Northside Festival ’15 \nDJ Questlove Presents: Bowl Train\nThursday Jun 11\, 2015\nDoors: 11:00 PM\nShow: 11:30 PM\n21 and over\n$7 – $10
URL:https://orsvp.com/event/northside-festival-2015-dj-questlove-presents-bowl-train/
LOCATION:NY
CATEGORIES:Music
ATTACH;FMTTYPE=:
END:VEVENT
BEGIN:VEVENT
DTSTART;TZID=America/Halifax:20150612T060000
DTEND;TZID=America/Halifax:20150612T100000
DTSTAMP:20260420T061723
CREATED:20150505T163736Z
LAST-MODIFIED:20150505T163736Z
UID:13291-1434088800-1434103200@orsvp.com
SUMMARY:TODAY Toyota Concert Series 2015: Fall Out Boy
DESCRIPTION:Fall Out Boy will be performing for FREE in Rockefeller Plaza as part of this year’s TODAY Summer Concert Series. \nFans and visitors are encouraged to come to the plaza for the live performances. Viewing is on a first-come\, first-served basis outside TODAY’s window-on-the-world studio\, located at 49th Street and Rockefeller Plaza in New York City. Fans should arrive by 6 a.m. for best viewing. \n  \nRequest a Fan Pass \nA limited number of Fan Passes are available by advanced request via a digital lottery system. Guests who receive the Fan Pass will be notified by email about one week prior to the scheduled concert date. Each Fan Pass is valid for 2 guests.
URL:https://orsvp.com/event/today-toyota-concert-series-2015-fall-out-boy/
LOCATION:NY
CATEGORIES:Free Concerts
ATTACH;FMTTYPE=:
END:VEVENT
BEGIN:VEVENT
DTSTART;TZID=America/Halifax:20150612T070000
DTEND;TZID=America/Halifax:20150612T090000
DTSTAMP:20260420T061723
CREATED:20150515T181318Z
LAST-MODIFIED:20160525T143515Z
UID:13676-1434092400-1434099600@orsvp.com
SUMMARY:GMA Summer Concert Series 2015: Jason Derulo
DESCRIPTION:Jason Derulo will be performing for free at Rumsey Playfield in Central Park as part of this year’s Good Morning America Summer Concert Series!
URL:https://orsvp.com/event/gma-summer-concert-series-2015-jason-derulo/
LOCATION:NY
CATEGORIES:Free Concerts,Music
ATTACH;FMTTYPE=:
END:VEVENT
BEGIN:VEVENT
DTSTART;TZID=America/Halifax:20150612T120000
DTEND;TZID=America/Halifax:20150612T120000
DTSTAMP:20260420T061723
CREATED:20150520T180045Z
LAST-MODIFIED:20160525T145009Z
UID:13979-1434110400-1434110400@orsvp.com
SUMMARY:Northside Festival 2015: The Landing\, Mayve\, The Fantastic Plastics\, Hey Anna\, Vivid Dreams
DESCRIPTION:Get excited! EiPR Presents: The Weekend Bender\, a special Northside Festival​ showcase at Knitting Factory Brooklyn​\, featuring Vivid Dreams​\, Hey Anna​\, The Fantastic Plastics\, Mayve​ and The Landing​! Doors open at noon\, and tickets are $5 or free with a Northside badge!
URL:https://orsvp.com/event/northside-festival-2015-the-landing-mayve-the-fantastic-plastics-hey-anna-vivid-dreams/
LOCATION:NY
CATEGORIES:Music
ATTACH;FMTTYPE=:
END:VEVENT
BEGIN:VEVENT
DTSTART;TZID=America/Halifax:20150612T130000
DTEND;TZID=America/Halifax:20150612T180000
DTSTAMP:20260420T061723
CREATED:20150520T180055Z
LAST-MODIFIED:20160525T145009Z
UID:13993-1434114000-1434132000@orsvp.com
SUMMARY:Northside Festival 2015: Newborn\, War Games\, The Courtesy Tier\, The Grape and the Grain\, Whiskey Bitches\, Cosmonaut\, Gloomfeather
DESCRIPTION:Rocker Stalker and Behind The Curtains Media have teamed up once again\, this time in their homebase of Brooklyn! Join us for an official Northside Festival showcase on…\nFRIDAY JUNE 12 \n1pm-6pm at Bar Matchless\n21+\n$10 w/o badge\nFREE with badge (25 cap) \nLine up:\n2pm: Gloomfeather\n2:35pm: Cosmonaut\n3:10pm: Whiskey Bitches\n3:45pm: The Grape And The Grain\n4:20pm: The Courtesy Tier\n4:55pm: War Games\n5:30pm: Newborn
URL:https://orsvp.com/event/northside-festival-2015-newborn-war-games-the-courtesy-tier-the-grape-and-the-grain-whiskey-bitches-cosmonaut-gloomfeather/
LOCATION:Bar Matchless\, 557 Manhattan Ave\, Brooklyn\, NY\, 11222\, United States
CATEGORIES:Music
ATTACH;FMTTYPE=:
END:VEVENT
BEGIN:VEVENT
DTSTART;TZID=America/Halifax:20150612T163000
DTEND;TZID=America/Halifax:20150612T200000
DTSTAMP:20260420T061723
CREATED:20150423T185006Z
LAST-MODIFIED:20150423T185006Z
UID:12820-1434126600-1434139200@orsvp.com
SUMMARY:Northside Festival 2015: The Very Best w/ Heems
DESCRIPTION:The Very Best is an official Northside Festival show. Also Featuring: Heems \nSET TIMES:\nThe Very Best (6:30 PM)\nHeems (5:30 PM) \nTICKET INFORMATION\nWhile the show is free\, RSVPs are required for entry on a first-come\, first-served basis. Please note\, a RSVP does not ensure admission\, so it’d be best to arrive at the show early. Once you purchase\, you will receive an order confirmation email from Eventbrite on behalf of Northside Festival. Your e-ticket(s) will be attached to your order confirmation email. Make sure to print them out and bring them to the event. Or go green and download the Eventbrite app on your smart phone! \nADDITIONAL INFORMATION\nEvent is all ages.\nEvent is rain or shine.\nArtists subject to change.
URL:https://orsvp.com/event/northside-festival-2015-the-very-best-w-heems/
LOCATION:NY
CATEGORIES:Free Concerts,RSVP Required
ATTACH;FMTTYPE=:
END:VEVENT
BEGIN:VEVENT
DTSTART;TZID=America/Halifax:20150612T180000
DTEND;TZID=America/Halifax:20150612T180000
DTSTAMP:20260420T061723
CREATED:20150520T180051Z
LAST-MODIFIED:20160525T145009Z
UID:13987-1434132000-1434132000@orsvp.com
SUMMARY:Northside Festival 2015: Electron\, Damn Right!\, Skytale
DESCRIPTION:
URL:https://orsvp.com/event/northside-festival-2015-electron-damn-right-skytale/
LOCATION:NY
CATEGORIES:Music
ATTACH;FMTTYPE=:
END:VEVENT
BEGIN:VEVENT
DTSTART;TZID=America/Halifax:20150612T180000
DTEND;TZID=America/Halifax:20150612T220000
DTSTAMP:20260420T061723
CREATED:20150520T180035Z
LAST-MODIFIED:20160525T145009Z
UID:13965-1434132000-1434146400@orsvp.com
SUMMARY:Northside Festival 2015: Neko Case\, Rhye\, Majical Cloudz
DESCRIPTION:Neko Case | 8:30pm\nRhye | 7:45pm\nMajical Cloudz | 7pm\nGates | 6pm
URL:https://orsvp.com/event/northside-festival-2015-neko-case-rhye-majical-cloudz/
LOCATION:50 Kent\, 50 Kent Ave.\, Brooklyn\, NY\, 11211\, United States
CATEGORIES:Music
ATTACH;FMTTYPE=:
END:VEVENT
BEGIN:VEVENT
DTSTART;TZID=America/Halifax:20150612T190000
DTEND;TZID=America/Halifax:20150612T190000
DTSTAMP:20260420T061723
CREATED:20150513T172956Z
LAST-MODIFIED:20160525T145009Z
UID:13570-1434135600-1434135600@orsvp.com
SUMMARY:Tyler\, the Creator with special guest Taco
DESCRIPTION:
URL:https://orsvp.com/event/tyler-the-creator-with-special-guest-taco-irving-plaza-061215/
LOCATION:NY
CATEGORIES:Music
ATTACH;FMTTYPE=:
END:VEVENT
END:VCALENDAR