BEGIN:VCALENDAR
VERSION:2.0
PRODID:-//ORSVP - ECPv6.6.4.2//NONSGML v1.0//EN
CALSCALE:GREGORIAN
METHOD:PUBLISH
X-ORIGINAL-URL:http://orsvp.com
X-WR-CALDESC:Events for ORSVP
REFRESH-INTERVAL;VALUE=DURATION:PT1H
X-Robots-Tag:noindex
X-PUBLISHED-TTL:PT1H
BEGIN:VTIMEZONE
TZID:UTC
BEGIN:STANDARD
TZOFFSETFROM:+0000
TZOFFSETTO:+0000
TZNAME:UTC
DTSTART:20160101T000000
END:STANDARD
TZID:America/Halifax
BEGIN:DAYLIGHT
TZOFFSETFROM:-0400
TZOFFSETTO:-0300
TZNAME:ADT
DTSTART:20160313T060000
END:DAYLIGHT
BEGIN:STANDARD
TZOFFSETFROM:-0300
TZOFFSETTO:-0400
TZNAME:AST
DTSTART:20161106T050000
END:STANDARD
END:VTIMEZONE
BEGIN:VEVENT
DTSTART;TZID=UTC:20160610T190000
DTEND;TZID=UTC:20160610T230000
DTSTAMP:20260423T133151
CREATED:20160303T022228Z
LAST-MODIFIED:20160512T195206Z
UID:999999742-1465585200-1465599600@orsvp.com
SUMMARY:Alice Smith
DESCRIPTION:
URL:http://orsvp.com/event/alice-smith-irving-plaza-061016/
LOCATION:Irving Plaza\, 17 Irving Pl\, New York\, NY\, 10003\, United States
CATEGORIES:Contests,Music
ATTACH;FMTTYPE=image/jpeg:http://orsvp.com/wp-content/uploads/2016/03/alice-smith.jpg
END:VEVENT
BEGIN:VEVENT
DTSTART;TZID=UTC:20160608T190000
DTEND;TZID=UTC:20160608T230000
DTSTAMP:20260423T133151
CREATED:20160303T022054Z
LAST-MODIFIED:20160428T172016Z
UID:999999741-1465412400-1465426800@orsvp.com
SUMMARY:Benjamin Clementine
DESCRIPTION:
URL:http://orsvp.com/event/benjamin-clementine-irving-plaza-060816/
LOCATION:Irving Plaza\, 17 Irving Pl\, New York\, NY\, 10003\, United States
CATEGORIES:Contests,Music
ATTACH;FMTTYPE=image/jpeg:http://orsvp.com/wp-content/uploads/2016/03/benjamin-clementine-irving-plaza-060816.jpg
END:VEVENT
BEGIN:VEVENT
DTSTART;TZID=UTC:20160608T180000
DTEND;TZID=UTC:20160608T230000
DTSTAMP:20260423T133151
CREATED:20160308T234838Z
LAST-MODIFIED:20160308T234939Z
UID:999999989-1465408800-1465426800@orsvp.com
SUMMARY:Beyonce - The Formation World Tour
DESCRIPTION:
URL:http://orsvp.com/event/beyonce-the-formation-world-tour-citi-field-060816/
LOCATION:Citi Field\, 123-01 Roosevelt Ave\, Queens\, NY\, 11368\, United States
CATEGORIES:Contests,Music
ATTACH;FMTTYPE=image/jpeg:http://orsvp.com/wp-content/uploads/2016/03/beyonce-the-formation-world-tour.jpg
END:VEVENT
BEGIN:VEVENT
DTSTART;TZID=UTC:20160607T180000
DTEND;TZID=UTC:20160607T230000
DTSTAMP:20260423T133151
CREATED:20160308T234840Z
LAST-MODIFIED:20160308T234945Z
UID:999999987-1465322400-1465340400@orsvp.com
SUMMARY:Beyonce - The Formation World Tour
DESCRIPTION:
URL:http://orsvp.com/event/beyonce-the-formation-world-tour-citi-field-060716/
LOCATION:Citi Field\, 123-01 Roosevelt Ave\, Queens\, NY\, 11368\, United States
CATEGORIES:Contests,Music
ATTACH;FMTTYPE=image/jpeg:http://orsvp.com/wp-content/uploads/2016/03/beyonce-the-formation-world-tour.jpg
END:VEVENT
BEGIN:VEVENT
DTSTART;TZID=America/Halifax:20160531T180000
DTEND;TZID=America/Halifax:20160531T220000
DTSTAMP:20260423T133151
CREATED:20160428T150611Z
LAST-MODIFIED:20160512T192540Z
UID:1000001240-1464717600-1464732000@orsvp.com
SUMMARY:Before You Exit - The All The Lights Tour
DESCRIPTION:When you combine the creative intuition of musical brothers with the wisdom and input of chart topping songwriters\, you get music of finely crafted pop bursting with spirited authenticity. \nThe Orlando\, Florida-based band began a few years ago with brothers Connor McDonough\, (Vocals/Guitar) and Riley McDonough\, (Vocals). Knowing they needed a little something more they brought in younger brother Toby\, (vocals) to round out the group. Working together has been easy\, “We actually get along really well. We all have our thing and work in categories by preference\,” Connor says. “I write vocal melodies\, Riley writes lyrics\, and Toby helps with both. We all do our own thing\, but also contribute to each other.” \nIn 2015\, the group signed to RCA Records\, released their hit song “Model” and toured with the Vamps and co-headlined a European tour with Christina Grimmie. Since becoming a group\, the brothers have garnered over 36 million views on YouTube. In 2014\, the group toured in support of their debut EP\, I Like That. Aside from headlining shows all over the world\, the group has supported Cody Simpson\, Olly Murs and Fifth Harmony. Things started to heat up when the group was named the winners of the third annual “Macy’s IHeartRadio Rising Star” campaign\, earning them a spot at the iHeartRadio Music Festival alongside such acts as Taylor Swift\, Ed Sheeran\, Nicki Minaj\, One Direction\, and more. The trio also performed at the 2014 Macy’s Thanksgiving Day Parade and had 3 singles hit the Radio Disney charts.\nThe group is set to release their next EP All The Lights on April 8th via RCA records. The 6 track EP will feature current single\, “Model\,” as well as 5 brand new tracks from the group. Fans who pre-order the EP starting today will receive an instant grat of both “Model” and new track\, “When I’m Gone.” \nConjuring up the optimism in the band’s name—inspired by the sentiment “make a difference before you exit”— the band works daily to make their way to the top but they never fail to stop and appreciate what has got them thus far. “There’s no way we’d be anywhere without our incredible fans. They are behind us every step of the way and are a huge piece of this band\,”states youngest brother Toby. In light of the many short lived and fly by night artists\, this young\, singer/songwriting\, brother driven band\, is one to be around for a while.
URL:http://orsvp.com/event/before-you-exit-the-all-the-lights-tour-gramercy-theatre-053116/
LOCATION:Gramercy Theatre\, 127 E 23rd St\, New York\, NY\, 10010\, United States
CATEGORIES:Contests,Music
ATTACH;FMTTYPE=image/jpeg:http://orsvp.com/wp-content/uploads/2016/04/before-you-exit-the-all-the-lights-tour-gramercy-theatre-053116.jpg
END:VEVENT
BEGIN:VEVENT
DTSTART;TZID=America/Halifax:20160526T180000
DTEND;TZID=America/Halifax:20160526T230000
DTSTAMP:20260423T133151
CREATED:20160325T195943Z
LAST-MODIFIED:20160428T160428Z
UID:1000000594-1464285600-1464303600@orsvp.com
SUMMARY:The Summer Set - Stories for Monday
DESCRIPTION:The Summer Set will be performing their new album Stories For Monday front to back in its entirety.
URL:http://orsvp.com/event/the-summer-set-stories-for-monday-gramercy-theatre-052616/
LOCATION:Gramercy Theatre\, 127 E 23rd St\, New York\, NY\, 10010\, United States
CATEGORIES:Contests,Music
ATTACH;FMTTYPE=image/jpeg:http://orsvp.com/wp-content/uploads/2016/03/the-summer-set-stories-for-monday-gramercy-theatre-052616-e1458936100926.jpg
END:VEVENT
BEGIN:VEVENT
DTSTART;TZID=America/Halifax:20160525T190000
DTEND;TZID=America/Halifax:20160525T230000
DTSTAMP:20260423T133151
CREATED:20160503T163355Z
LAST-MODIFIED:20160513T183848Z
UID:1000001395-1464202800-1464217200@orsvp.com
SUMMARY:T.I.
DESCRIPTION:
URL:http://orsvp.com/event/ti-irving-plaza-052516/
LOCATION:Irving Plaza\, 17 Irving Pl\, New York\, NY\, 10003\, United States
CATEGORIES:Contests,Music
ATTACH;FMTTYPE=image/jpeg:http://orsvp.com/wp-content/uploads/2016/05/ti-irving-plaza-052516.jpg
END:VEVENT
BEGIN:VEVENT
DTSTART;TZID=America/Halifax:20160520T190000
DTEND;TZID=America/Halifax:20160520T230000
DTSTAMP:20260423T133151
CREATED:20160324T204943Z
LAST-MODIFIED:20160510T162409Z
UID:1000000445-1463770800-1463785200@orsvp.com
SUMMARY:Ripe & Flow Tribe
DESCRIPTION:
URL:http://orsvp.com/event/ripe-flow-tribe-gramercy-theatre-052016/
LOCATION:Gramercy Theatre\, 127 E 23rd St\, New York\, NY\, 10010\, United States
CATEGORIES:Contests,Music
ATTACH;FMTTYPE=image/jpeg:http://orsvp.com/wp-content/uploads/2016/03/ripe-flow-tribe-gramercy-theatre-052016.jpg
END:VEVENT
BEGIN:VEVENT
DTSTART;TZID=UTC:20160520T190000
DTEND;TZID=UTC:20160520T230000
DTSTAMP:20260423T133151
CREATED:20160303T021647Z
LAST-MODIFIED:20160428T154339Z
UID:999999737-1463770800-1463785200@orsvp.com
SUMMARY:Apocalyptica - Shadowmaker Tour
DESCRIPTION:
URL:http://orsvp.com/event/apocalyptica-shadowmaker-tour-irving-plaza-052016/
LOCATION:Irving Plaza\, 17 Irving Pl\, New York\, NY\, 10003\, United States
CATEGORIES:Contests,Music
ATTACH;FMTTYPE=image/jpeg:http://orsvp.com/wp-content/uploads/2016/03/apocalyptica-shadowmaker-tour-irving-plaza-052016.jpg
END:VEVENT
BEGIN:VEVENT
DTSTART;TZID=UTC:20160519T190000
DTEND;TZID=UTC:20160519T230000
DTSTAMP:20260423T133151
CREATED:20160303T021517Z
LAST-MODIFIED:20160517T190430Z
UID:999999736-1463684400-1463698800@orsvp.com
SUMMARY:Frankie Ballard
DESCRIPTION:
URL:http://orsvp.com/event/frankie-ballard-irving-plaza-051916/
LOCATION:Irving Plaza\, 17 Irving Pl\, New York\, NY\, 10003\, United States
CATEGORIES:Contests,Music
ATTACH;FMTTYPE=image/jpeg:http://orsvp.com/wp-content/uploads/2016/03/frankie-ballard-irving-plaza-051916.jpg
END:VEVENT
BEGIN:VEVENT
DTSTART;TZID=America/Halifax:20160517T190000
DTEND;TZID=America/Halifax:20160517T230000
DTSTAMP:20260423T133151
CREATED:20160323T184355Z
LAST-MODIFIED:20160516T002114Z
UID:1000000401-1463511600-1463526000@orsvp.com
SUMMARY:Hard Working Americans
DESCRIPTION:When Todd Snider decided it was time to work with musicians his own age for a change\, he ended up forming an all-star group of jam band and alt-country veterans known as the Hard Working Americans. In 2012\, after Snider had wrapped up touring behind his album Agnostic Hymns & Stoner Fables\, he had a conversation with his friend Chad Staehly\, keyboard man with the group Great American Taxi\, about his working methods. “One day Chad Staehly pointed out to me that I spend a lot of time with my heroes and avoid my peers\,” Snider told reporter Jonathan Bernstein. “He was like\, ‘I always see you with Jerry Jeff (Walker)\, or John Prine\, or Kris Kristofferson. Who do you like that’s your age?'” With that in mind\, for his next project Snider put together a band of like-minded musicians of similar vintage\, including Staehly on keys\, guitarist Neal Casal (of the Chris Robinson Brotherhood and Ryan Adams & the Cardinals)\, bassist Dave Schools (of Widespread Panic)\, and drummer Duane Trucks (of King Lincoln and Col. Bruce Hampton’s School of Music). The new group adopted the name the Hard Working Americans\, and despite Snider’s pedigree as a songwriter\, for their debut album they recorded a set of cover tunes about the frustrations of working life. The band made its live debut in December 2013 at a benefit concert in Denver\, Colorado. The Hard Working Americans was released in early 2014\, followed by a short tour.
URL:http://orsvp.com/event/hard-working-americans-gramercy-theatre-051716/
LOCATION:Gramercy Theatre\, 127 E 23rd St\, New York\, NY\, 10010\, United States
CATEGORIES:Contests,Music
ATTACH;FMTTYPE=image/jpeg:http://orsvp.com/wp-content/uploads/2016/03/hard-working-americans-gramercy-theatre-051716.jpg
END:VEVENT
BEGIN:VEVENT
DTSTART;TZID=America/Halifax:20160517T170000
DTEND;TZID=America/Halifax:20160517T220000
DTSTAMP:20260423T133151
CREATED:20160516T145529Z
LAST-MODIFIED:20160516T145529Z
UID:1000001915-1463504400-1463522400@orsvp.com
SUMMARY:Z100 presents The 1975 LIVE at the Empire State Building
DESCRIPTION:Z100 presents The 1975 LIVE at the Empire State Building. Enter now for your chance to win an invite to the private performance on Tuesday\, May 17th and qualify to meet the band atop the Empire State Building! \nThis is a free concert\, but you must enter and win an invite to attend. Click the RSVP button to visit Z100 and enter their contest.
URL:http://orsvp.com/event/z100-presents-1975-live-empire-state-building-051716/
LOCATION:Empire State Building\, 350 5th Ave.\, New York\, NY\, 10118\, United States
CATEGORIES:Contests,Free Concerts,Music
ATTACH;FMTTYPE=image/jpeg:http://orsvp.com/wp-content/uploads/2016/05/the-1975.jpg
END:VEVENT
BEGIN:VEVENT
DTSTART;TZID=America/Halifax:20160514T213000
DTEND;TZID=America/Halifax:20160514T233000
DTSTAMP:20260423T133151
CREATED:20160505T183646Z
LAST-MODIFIED:20160506T154411Z
UID:1000001603-1463261400-1463268600@orsvp.com
SUMMARY:Blogologues
DESCRIPTION:BLOGOLOGUES is the internet performed! We find the most outrageous text on the world wide web and perform it verbatim on stage. Blogologues brings to life Craigslist posts\, online dating profiles\, tweets\, Missed Connections\, Yelps reviews\, and more.
URL:http://orsvp.com/event/blogologues-the-pit-striker-051416/
LOCATION:The Pit Striker\, 123 E 24th St\, New York\, NY\, 10010\, United States
CATEGORIES:Contests,Theater & Comedy
ATTACH;FMTTYPE=image/jpeg:http://orsvp.com/wp-content/uploads/2016/05/blogologues.jpg
END:VEVENT
BEGIN:VEVENT
DTSTART;TZID=UTC:20160512T190000
DTEND;TZID=UTC:20160512T230000
DTSTAMP:20260423T133151
CREATED:20160303T191521Z
LAST-MODIFIED:20160510T160918Z
UID:999999706-1463079600-1463094000@orsvp.com
SUMMARY:Gary Numan performing Telekon
DESCRIPTION:
URL:http://orsvp.com/event/gary-numan-performing-telekon-gramercy-theatre-051216/
LOCATION:Gramercy Theatre\, 127 E 23rd St\, New York\, NY\, 10010\, United States
CATEGORIES:Contests,Music
ATTACH;FMTTYPE=image/jpeg:http://orsvp.com/wp-content/uploads/2016/03/gary-numan.jpg
END:VEVENT
BEGIN:VEVENT
DTSTART;TZID=UTC:20160512T190000
DTEND;TZID=UTC:20160512T230000
DTSTAMP:20260423T133151
CREATED:20160303T020230Z
LAST-MODIFIED:20160510T161233Z
UID:999999734-1463079600-1463094000@orsvp.com
SUMMARY:Old 97's and Heartless Bastards
DESCRIPTION:
URL:http://orsvp.com/event/old-97s-heartless-bastards-irving-plaza-051216/
LOCATION:Irving Plaza\, 17 Irving Pl\, New York\, NY\, 10003\, United States
CATEGORIES:Contests,Music
ATTACH;FMTTYPE=image/jpeg:http://orsvp.com/wp-content/uploads/2016/03/old-97s-heartless-bastards-irving-plaza-051216.jpg
END:VEVENT
BEGIN:VEVENT
DTSTART;TZID=America/Halifax:20160511T190000
DTEND;TZID=America/Halifax:20160511T230000
DTSTAMP:20260423T133151
CREATED:20160322T191001Z
LAST-MODIFIED:20160510T162222Z
UID:1000000333-1462993200-1463007600@orsvp.com
SUMMARY:We Are Scientists performing With Love and Squalor
DESCRIPTION:
URL:http://orsvp.com/event/we-are-scientists-performing-with-love-and-squalor-irving-plaza-051116/
LOCATION:Irving Plaza\, 17 Irving Pl\, New York\, NY\, 10003\, United States
CATEGORIES:Contests,Music
ATTACH;FMTTYPE=image/jpeg:http://orsvp.com/wp-content/uploads/2016/03/we-are-scientists-performing-with-love-and-squalor-irving-plaza-051116.jpg
END:VEVENT
BEGIN:VEVENT
DTSTART;TZID=UTC:20160509T183000
DTEND;TZID=UTC:20160509T230000
DTSTAMP:20260423T133151
CREATED:20160303T192113Z
LAST-MODIFIED:20160428T153451Z
UID:999999703-1462818600-1462834800@orsvp.com
SUMMARY:Sick Puppies
DESCRIPTION:
URL:http://orsvp.com/event/sick-puppies-gramercy-theatre-050916/
LOCATION:Gramercy Theatre\, 127 E 23rd St\, New York\, NY\, 10010\, United States
CATEGORIES:Contests,Music
ATTACH;FMTTYPE=image/jpeg:http://orsvp.com/wp-content/uploads/2016/03/sick-puppies-gramercy-theatre-050916.jpg
END:VEVENT
BEGIN:VEVENT
DTSTART;TZID=UTC:20160505T183000
DTEND;TZID=UTC:20160505T230000
DTSTAMP:20260423T133151
CREATED:20160303T191950Z
LAST-MODIFIED:20160411T144743Z
UID:999999700-1462473000-1462489200@orsvp.com
SUMMARY:Enter Shikari
DESCRIPTION:
URL:http://orsvp.com/event/enter-shikari-gramercy-theatre-050516/
LOCATION:Gramercy Theatre\, 127 E 23rd St\, New York\, NY\, 10010\, United States
CATEGORIES:Contests,Music
ATTACH;FMTTYPE=image/jpeg:http://orsvp.com/wp-content/uploads/2016/03/enter-shikari-gramercy-theatre-050516.jpg
END:VEVENT
BEGIN:VEVENT
DTSTART;TZID=UTC:20160504T190000
DTEND;TZID=UTC:20160504T230000
DTSTAMP:20260423T133151
CREATED:20160303T193628Z
LAST-MODIFIED:20160429T205616Z
UID:999999699-1462388400-1462402800@orsvp.com
SUMMARY:Bon Qui Qui
DESCRIPTION:
URL:http://orsvp.com/event/bon-qui-qui-gramercy-theatre-050416/
LOCATION:Gramercy Theatre\, 127 E 23rd St\, New York\, NY\, 10010\, United States
CATEGORIES:Contests,Music
ATTACH;FMTTYPE=image/jpeg:http://orsvp.com/wp-content/uploads/2016/03/bon-qui-qui-gramercy-theatre-050416.jpg
END:VEVENT
BEGIN:VEVENT
DTSTART;TZID=UTC:20160503T173000
DTEND;TZID=UTC:20160503T230000
DTSTAMP:20260423T133151
CREATED:20160303T190026Z
LAST-MODIFIED:20160429T210307Z
UID:999999698-1462296600-1462316400@orsvp.com
SUMMARY:Filter - Make America Hate Again Tour
DESCRIPTION:
URL:http://orsvp.com/event/filter-make-america-hate-again-tour-gramercy-theatre-050316/
LOCATION:Gramercy Theatre\, 127 E 23rd St\, New York\, NY\, 10010\, United States
CATEGORIES:Contests,Music
ATTACH;FMTTYPE=image/jpeg:http://orsvp.com/wp-content/uploads/2016/03/filter-make-america-hate-again-tour-gramercy-theatre-050316.jpg
END:VEVENT
BEGIN:VEVENT
DTSTART;TZID=UTC:20160502T190000
DTEND;TZID=UTC:20160502T230000
DTSTAMP:20260423T133151
CREATED:20160303T021039Z
LAST-MODIFIED:20160411T144602Z
UID:999999732-1462215600-1462230000@orsvp.com
SUMMARY:The Darkness - Back to the USSA Tour 2016
DESCRIPTION:
URL:http://orsvp.com/event/the-darkness-back-to-the-ussa-tour-2016-irving-plaza-050216/
LOCATION:Irving Plaza\, 17 Irving Pl\, New York\, NY\, 10003\, United States
CATEGORIES:Contests,Music
ATTACH;FMTTYPE=image/jpeg:http://orsvp.com/wp-content/uploads/2016/03/the-darkness-back-to-the-ussa-tour-2016-irving-plaza-050216.jpg
END:VEVENT
BEGIN:VEVENT
DTSTART;TZID=America/Halifax:20160501T180000
DTEND;TZID=America/Halifax:20160501T230000
DTSTAMP:20260423T133151
CREATED:20160323T180349Z
LAST-MODIFIED:20160411T144412Z
UID:1000000397-1462125600-1462143600@orsvp.com
SUMMARY:Metal Alliance Tour
DESCRIPTION:
URL:http://orsvp.com/event/metal-alliance-tour-gramercy-theatre-050116/
LOCATION:Gramercy Theatre\, 127 E 23rd St\, New York\, NY\, 10010\, United States
CATEGORIES:Contests,Music
ATTACH;FMTTYPE=image/jpeg:http://orsvp.com/wp-content/uploads/2016/03/metal-alliance-tour-gramercy-theatre-050116.jpg
END:VEVENT
BEGIN:VEVENT
DTSTART;TZID=America/Halifax:20160427T190000
DTEND;TZID=America/Halifax:20160427T230000
DTSTAMP:20260423T133151
CREATED:20160328T192917Z
LAST-MODIFIED:20160411T144229Z
UID:1000000602-1461783600-1461798000@orsvp.com
SUMMARY:Teyana Taylor - Unplugged 2016 Tour
DESCRIPTION:
URL:http://orsvp.com/event/teyana-taylor-unplugged-2016-tour-irving-plaza-042716/
LOCATION:Irving Plaza\, 17 Irving Pl\, New York\, NY\, 10003\, United States
CATEGORIES:Contests,Music
ATTACH;FMTTYPE=image/jpeg:http://orsvp.com/wp-content/uploads/2016/03/teyana-taylor-unplugged-2016-tour-irving-plaza-042716.jpg
END:VEVENT
BEGIN:VEVENT
DTSTART;TZID=UTC:20160426T190000
DTEND;TZID=UTC:20160426T190000
DTSTAMP:20260423T133151
CREATED:20160225T235926Z
LAST-MODIFIED:20160411T144141Z
UID:999999340-1461697200-1461697200@orsvp.com
SUMMARY:The Residents present Shadowland
DESCRIPTION:
URL:http://orsvp.com/event/the-residents-present-shadowland-gramercy-theatre-042616/
LOCATION:Gramercy Theatre\, 127 E 23rd St\, New York\, NY\, 10010\, United States
CATEGORIES:Contests,Music
ATTACH;FMTTYPE=image/jpeg:http://orsvp.com/wp-content/uploads/2016/02/the-residents-present-shadowland-gramercy-theatre-042616.jpg
END:VEVENT
BEGIN:VEVENT
DTSTART;TZID=UTC:20160423T190000
DTEND;TZID=UTC:20160423T230000
DTSTAMP:20260423T133151
CREATED:20160308T213101Z
LAST-MODIFIED:20160411T144105Z
UID:999999967-1461438000-1461452400@orsvp.com
SUMMARY:We Came As Romans
DESCRIPTION:
URL:http://orsvp.com/event/we-came-as-romans-gramercy-theatre-042316/
LOCATION:Gramercy Theatre\, 127 E 23rd St\, New York\, NY\, 10010\, United States
CATEGORIES:Contests,Music
ATTACH;FMTTYPE=image/jpeg:http://orsvp.com/wp-content/uploads/2016/03/we-came-as-romans-gramercy-theatre-042316.jpg
END:VEVENT
BEGIN:VEVENT
DTSTART;TZID=UTC:20160422T183000
DTEND;TZID=UTC:20160422T230000
DTSTAMP:20260423T133151
CREATED:20160225T205158Z
LAST-MODIFIED:20160404T164949Z
UID:999999287-1461349800-1461366000@orsvp.com
SUMMARY:Into It. Over It.
DESCRIPTION:
URL:http://orsvp.com/event/into-it-over-it-irving-plaza-042216/
LOCATION:Irving Plaza\, 17 Irving Pl\, New York\, NY\, 10003\, United States
CATEGORIES:Contests,Music
ATTACH;FMTTYPE=image/jpeg:http://orsvp.com/wp-content/uploads/2016/02/into-it-over-it-irving-plaza-042216.jpg
END:VEVENT
BEGIN:VEVENT
DTSTART;TZID=UTC:20160421T190000
DTEND;TZID=UTC:20160421T230000
DTSTAMP:20260423T133151
CREATED:20160225T205144Z
LAST-MODIFIED:20160328T212243Z
UID:999999286-1461265200-1461279600@orsvp.com
SUMMARY:Coasts
DESCRIPTION:
URL:http://orsvp.com/event/coasts-gramercy-theatre-042116/
LOCATION:Gramercy Theatre\, 127 E 23rd St\, New York\, NY\, 10010\, United States
CATEGORIES:Contests,Music
ATTACH;FMTTYPE=image/jpeg:http://orsvp.com/wp-content/uploads/2016/02/coasts-gramercy-theatre-042116.jpg
END:VEVENT
BEGIN:VEVENT
DTSTART;TZID=UTC:20160420T190000
DTEND;TZID=UTC:20160420T230000
DTSTAMP:20260423T133151
CREATED:20160225T205319Z
LAST-MODIFIED:20160411T144010Z
UID:999999285-1461178800-1461193200@orsvp.com
SUMMARY:Tokyo Police Club
DESCRIPTION:
URL:http://orsvp.com/event/tokyo-police-club-irving-plaza-042016/
LOCATION:Irving Plaza\, 17 Irving Pl\, New York\, NY\, 10003\, United States
CATEGORIES:Contests,Music
ATTACH;FMTTYPE=image/jpeg:http://orsvp.com/wp-content/uploads/2016/02/tokyo-police-club-irving-plaza-042016.jpg
END:VEVENT
BEGIN:VEVENT
DTSTART;TZID=UTC:20160418T190000
DTEND;TZID=UTC:20160418T190000
DTSTAMP:20260423T133151
CREATED:20160225T234951Z
LAST-MODIFIED:20160414T210458Z
UID:999999339-1461006000-1461006000@orsvp.com
SUMMARY:Kris Allen
DESCRIPTION:
URL:http://orsvp.com/event/kris-allen-gramercy-theatre-041816/
LOCATION:Gramercy Theatre\, 127 E 23rd St\, New York\, NY\, 10010\, United States
CATEGORIES:Contests,Music
ATTACH;FMTTYPE=image/jpeg:http://orsvp.com/wp-content/uploads/2016/02/kris-allen-gramercy-theatre-041816.jpg
END:VEVENT
BEGIN:VEVENT
DTSTART;TZID=UTC:20160417T190000
DTEND;TZID=UTC:20160417T230000
DTSTAMP:20260423T133151
CREATED:20160225T235750Z
LAST-MODIFIED:20160411T143358Z
UID:999999338-1460919600-1460934000@orsvp.com
SUMMARY:Denzel Curry - 2055: The Ult Experience
DESCRIPTION:
URL:http://orsvp.com/event/denzel-curry-2055-the-ult-experience-gramercy-theatre-041716/
LOCATION:Gramercy Theatre\, 127 E 23rd St\, New York\, NY\, 10010\, United States
CATEGORIES:Contests,Music
ATTACH;FMTTYPE=image/jpeg:http://orsvp.com/wp-content/uploads/2016/02/denzel-curry.jpg
END:VEVENT
END:VCALENDAR