BEGIN:VCALENDAR
VERSION:2.0
PRODID:-//ORSVP - ECPv6.6.4.2//NONSGML v1.0//EN
CALSCALE:GREGORIAN
METHOD:PUBLISH
X-WR-CALNAME:ORSVP
X-ORIGINAL-URL:http://orsvp.com
X-WR-CALDESC:Events for ORSVP
REFRESH-INTERVAL;VALUE=DURATION:PT1H
X-Robots-Tag:noindex
X-PUBLISHED-TTL:PT1H
BEGIN:VTIMEZONE
TZID:America/Halifax
BEGIN:DAYLIGHT
TZOFFSETFROM:-0400
TZOFFSETTO:-0300
TZNAME:ADT
DTSTART:20180311T060000
END:DAYLIGHT
BEGIN:STANDARD
TZOFFSETFROM:-0300
TZOFFSETTO:-0400
TZNAME:AST
DTSTART:20181104T050000
END:STANDARD
BEGIN:DAYLIGHT
TZOFFSETFROM:-0400
TZOFFSETTO:-0300
TZNAME:ADT
DTSTART:20190310T060000
END:DAYLIGHT
BEGIN:STANDARD
TZOFFSETFROM:-0300
TZOFFSETTO:-0400
TZNAME:AST
DTSTART:20191103T050000
END:STANDARD
END:VTIMEZONE
BEGIN:VEVENT
DTSTART;TZID=America/Halifax:20190125T180000
DTEND;TZID=America/Halifax:20190125T190000
DTSTAMP:20260419T095454
CREATED:20190115T193556Z
LAST-MODIFIED:20190115T193912Z
UID:1000005218-1548439200-1548442800@orsvp.com
SUMMARY:Backstreet Boys Album Release Party
DESCRIPTION:BACKSTREET’S BACK! 🙌😍 We’re SO excited to announce the Backstreet Boys will be at the iHeartRadio Theater for their album release party on 1/25! Whether you’ve been a HUGE fan since the 90s or you’re a newbie\, don’t miss out on this once-in-a-lifetime chance to see them with just 200 of their closest fans! \n \n(via P.C. Richard & Son Facebook)
URL:http://orsvp.com/event/backstreet-boys-album-release-party/
LOCATION:iHeartRadio Theater\, 32 Avenue of the Americas\, New York\, NY\, 10013\, United States
CATEGORIES:All,Contests,Free Concerts,Music
ATTACH;FMTTYPE=image/jpeg:http://orsvp.com/wp-content/uploads/2019/01/backstreet-boys-dna-album-release-party-iheartradio-theater-012518.jpg
END:VEVENT
BEGIN:VEVENT
DTSTART;TZID=America/Halifax:20180930T190000
DTEND;TZID=America/Halifax:20180930T230000
DTSTAMP:20260419T095454
CREATED:20180702T204805Z
LAST-MODIFIED:20180716T185518Z
UID:1000004416-1538334000-1538348400@orsvp.com
SUMMARY:Queen Extravaganza performing Queen's Greatest Hits
DESCRIPTION:
URL:http://orsvp.com/event/queen-extravaganza-performing-queens-greatest-hits-wellmont-theater-093018/
LOCATION:Wellmont Theater\, 5 Seymour St.\, Montclair\, NJ\, 07042\, United States
CATEGORIES:All,Contests,Music
ATTACH;FMTTYPE=image/jpeg:http://orsvp.com/wp-content/uploads/2018/07/Queen-Extravaganza.jpg
END:VEVENT
BEGIN:VEVENT
DTSTART;TZID=America/Halifax:20180929T190000
DTEND;TZID=America/Halifax:20180929T230000
DTSTAMP:20260419T095454
CREATED:20180601T145311Z
LAST-MODIFIED:20180716T184903Z
UID:1000004159-1538247600-1538262000@orsvp.com
SUMMARY:Lil Xan "Total Xanarchy"
DESCRIPTION:
URL:http://orsvp.com/event/lil-xan-total-xanarchy-irving-plaza-092918/
LOCATION:Irving Plaza\, 17 Irving Pl\, New York\, NY\, 10003\, United States
CATEGORIES:All,Contests,Music
ATTACH;FMTTYPE=image/jpeg:http://orsvp.com/wp-content/uploads/2018/06/lil-xan.jpg
END:VEVENT
BEGIN:VEVENT
DTSTART;TZID=America/Halifax:20180928T190000
DTEND;TZID=America/Halifax:20180928T230000
DTSTAMP:20260419T095454
CREATED:20180628T171557Z
LAST-MODIFIED:20180716T184556Z
UID:1000004279-1538161200-1538175600@orsvp.com
SUMMARY:Grim Reaper
DESCRIPTION:
URL:http://orsvp.com/event/grim-reaper-gramercy-theatre-092818/
LOCATION:Gramercy Theatre\, 127 E 23rd St\, New York\, NY\, 10010\, United States
CATEGORIES:All,Contests,Music
ATTACH;FMTTYPE=image/jpeg:http://orsvp.com/wp-content/uploads/2018/06/Grim-Reaper.jpg
END:VEVENT
BEGIN:VEVENT
DTSTART;TZID=America/Halifax:20180926T190000
DTEND;TZID=America/Halifax:20180926T230000
DTSTAMP:20260419T095454
CREATED:20180601T145308Z
LAST-MODIFIED:20180716T184031Z
UID:1000004158-1537988400-1538002800@orsvp.com
SUMMARY:Lil Xan "Total Xanarchy"
DESCRIPTION:
URL:http://orsvp.com/event/lil-xan-total-xanarchy-irving-plaza-092618/
LOCATION:Irving Plaza\, 17 Irving Pl\, New York\, NY\, 10003\, United States
CATEGORIES:All,Contests,Music
ATTACH;FMTTYPE=image/jpeg:http://orsvp.com/wp-content/uploads/2018/06/lil-xan.jpg
END:VEVENT
BEGIN:VEVENT
DTSTART;TZID=America/Halifax:20180925T190000
DTEND;TZID=America/Halifax:20180925T230000
DTSTAMP:20260419T095454
CREATED:20180702T100721Z
LAST-MODIFIED:20180716T183340Z
UID:1000004351-1537902000-1537916400@orsvp.com
SUMMARY:OrelSan
DESCRIPTION:
URL:http://orsvp.com/event/orelsan-irving-plaza-092518/
LOCATION:Irving Plaza\, 17 Irving Pl\, New York\, NY\, 10003\, United States
CATEGORIES:All,Contests,Music
ATTACH;FMTTYPE=image/jpeg:http://orsvp.com/wp-content/uploads/2018/07/OrelSan.jpg
END:VEVENT
BEGIN:VEVENT
DTSTART;TZID=America/Halifax:20180925T190000
DTEND;TZID=America/Halifax:20180925T230000
DTSTAMP:20260419T095454
CREATED:20180601T145613Z
LAST-MODIFIED:20180716T182914Z
UID:1000004157-1537902000-1537916400@orsvp.com
SUMMARY:Alestorm
DESCRIPTION:
URL:http://orsvp.com/event/alestorm-gramercy-theatre-092518/
LOCATION:Gramercy Theatre\, 127 E 23rd St\, New York\, NY\, 10010\, United States
CATEGORIES:All,Contests,Music
ATTACH;FMTTYPE=image/jpeg:http://orsvp.com/wp-content/uploads/2018/06/Alestorm.jpg
END:VEVENT
BEGIN:VEVENT
DTSTART;TZID=America/Halifax:20180923T190000
DTEND;TZID=America/Halifax:20180923T230000
DTSTAMP:20260419T095454
CREATED:20180702T095849Z
LAST-MODIFIED:20180716T182431Z
UID:1000004349-1537729200-1537743600@orsvp.com
SUMMARY:Butch Walker
DESCRIPTION:
URL:http://orsvp.com/event/butch-walker-irving-plaza-092318/
LOCATION:Irving Plaza\, 17 Irving Pl\, New York\, NY\, 10003\, United States
CATEGORIES:All,Contests,Music
ATTACH;FMTTYPE=image/jpeg:http://orsvp.com/wp-content/uploads/2018/07/Butch-Walker.jpg
END:VEVENT
BEGIN:VEVENT
DTSTART;TZID=America/Halifax:20180922T190000
DTEND;TZID=America/Halifax:20180922T230000
DTSTAMP:20260419T095454
CREATED:20180601T145535Z
LAST-MODIFIED:20180716T181822Z
UID:1000004156-1537642800-1537657200@orsvp.com
SUMMARY:Gary Numan "The Second Savage Tour"
DESCRIPTION:
URL:http://orsvp.com/event/gary-numan-second-savage-tour-irving-plaza-092218/
LOCATION:Irving Plaza\, 17 Irving Pl\, New York\, NY\, 10003\, United States
CATEGORIES:All,Contests,Music
ATTACH;FMTTYPE=image/jpeg:http://orsvp.com/wp-content/uploads/2018/06/gary-numan.jpg
END:VEVENT
BEGIN:VEVENT
DTSTART;TZID=America/Halifax:20180921T190000
DTEND;TZID=America/Halifax:20180921T230000
DTSTAMP:20260419T095454
CREATED:20180702T203937Z
LAST-MODIFIED:20180716T182034Z
UID:1000004414-1537556400-1537570800@orsvp.com
SUMMARY:Back To The Eighties Show with Jessie's Girl
DESCRIPTION:JESSIE’S GIRL has mastered stunning renditions of the world’s most vibrant songs\, all while dressed up as the unforgettable characters of that decade! Bon Jovi\, Cindi Lauper\, Michael Jackson\, Madonna\, Prince\, and many more come to life right before the dazzled eyes of the crowd. It is theatre\, meets live music\, smothered in 80’s glitz. A performance like no other and a party you have to experience to believe.
URL:http://orsvp.com/event/back-to-the-eighties-show-with-jessies-girl-wellmont-theater-092118/
LOCATION:Wellmont Theater\, 5 Seymour St.\, Montclair\, NJ\, 07042\, United States
CATEGORIES:All,Contests,Music
ATTACH;FMTTYPE=image/jpeg:http://orsvp.com/wp-content/uploads/2018/07/Jessies-Girl.jpg
END:VEVENT
BEGIN:VEVENT
DTSTART;TZID=America/Halifax:20180921T190000
DTEND;TZID=America/Halifax:20180921T230000
DTSTAMP:20260419T095454
CREATED:20180601T145222Z
LAST-MODIFIED:20180716T180255Z
UID:1000004155-1537556400-1537570800@orsvp.com
SUMMARY:Hyukoh "24 Tour"
DESCRIPTION:
URL:http://orsvp.com/event/hyukoh-24-tour-irving-plaza-092118/
LOCATION:Irving Plaza\, 17 Irving Pl\, New York\, NY\, 10003\, United States
CATEGORIES:All,Contests,Music
ATTACH;FMTTYPE=image/jpeg:http://orsvp.com/wp-content/uploads/2018/06/hyukoh.jpg
END:VEVENT
BEGIN:VEVENT
DTSTART;TZID=America/Halifax:20180919T190000
DTEND;TZID=America/Halifax:20180919T230000
DTSTAMP:20260419T095454
CREATED:20180601T145502Z
LAST-MODIFIED:20180716T175556Z
UID:1000004153-1537383600-1537398000@orsvp.com
SUMMARY:Owl City "Cinematic Tour"
DESCRIPTION:
URL:http://orsvp.com/event/owl-city-cinematic-tour-irving-plaza-091918/
LOCATION:Irving Plaza\, 17 Irving Pl\, New York\, NY\, 10003\, United States
CATEGORIES:All,Contests,Music
ATTACH;FMTTYPE=image/jpeg:http://orsvp.com/wp-content/uploads/2018/06/owl-city.jpg
END:VEVENT
BEGIN:VEVENT
DTSTART;TZID=America/Halifax:20180917T190000
DTEND;TZID=America/Halifax:20180917T230000
DTSTAMP:20260419T095454
CREATED:20180601T145359Z
LAST-MODIFIED:20180716T175026Z
UID:1000004152-1537210800-1537225200@orsvp.com
SUMMARY:MC50 presents Kick Out The Jams: The 50th Anniversary Tour
DESCRIPTION:MC50 founder Wayne Kramer celebrates the 50th anniversary of KICK OUT THE JAMS around the world in 2018 with very special guests.
URL:http://orsvp.com/event/mc50-presents-kick-jams-50th-anniversary-tour-irving-plaza-091718/
LOCATION:Irving Plaza\, 17 Irving Pl\, New York\, NY\, 10003\, United States
CATEGORIES:All,Contests,Music
ATTACH;FMTTYPE=image/jpeg:http://orsvp.com/wp-content/uploads/2018/06/mc50.jpg
END:VEVENT
BEGIN:VEVENT
DTSTART;TZID=America/Halifax:20180916T190000
DTEND;TZID=America/Halifax:20180916T230000
DTSTAMP:20260419T095454
CREATED:20180601T145126Z
LAST-MODIFIED:20180716T174115Z
UID:1000004151-1537124400-1537138800@orsvp.com
SUMMARY:Helloween: Pumpkins United
DESCRIPTION:
URL:http://orsvp.com/event/helloween-pumpkins-united-irving-plaza-091618/
LOCATION:Irving Plaza\, 17 Irving Pl\, New York\, NY\, 10003\, United States
CATEGORIES:All,Contests,Music
ATTACH;FMTTYPE=image/jpeg:http://orsvp.com/wp-content/uploads/2018/06/helloween.jpg
END:VEVENT
BEGIN:VEVENT
DTSTART;TZID=America/Halifax:20180916T180000
DTEND;TZID=America/Halifax:20180916T230000
DTSTAMP:20260419T095454
CREATED:20180628T171027Z
LAST-MODIFIED:20180716T172633Z
UID:1000004278-1537120800-1537138800@orsvp.com
SUMMARY:WSOU Under The Stars Presents Blessthefall
DESCRIPTION:
URL:http://orsvp.com/event/wsou-under-the-stars-presents-blessthefall-gramercy-theatre-091618/
LOCATION:Gramercy Theatre\, 127 E 23rd St\, New York\, NY\, 10010\, United States
CATEGORIES:All,Contests,Music
ATTACH;FMTTYPE=image/jpeg:http://orsvp.com/wp-content/uploads/2018/06/Blessthefall.jpg
END:VEVENT
BEGIN:VEVENT
DTSTART;TZID=America/Halifax:20180915T200000
DTEND;TZID=America/Halifax:20180915T230000
DTSTAMP:20260419T095454
CREATED:20180703T100302Z
LAST-MODIFIED:20180716T171235Z
UID:1000004438-1537041600-1537052400@orsvp.com
SUMMARY:Agnes Obel
DESCRIPTION:
URL:http://orsvp.com/event/agnes-obel-warsaw-091518/
LOCATION:Warsaw\, 261 Driggs Ave.\, Brooklyn\, NY\, 11222\, United States
CATEGORIES:All,Contests,Music
ATTACH;FMTTYPE=image/jpeg:http://orsvp.com/wp-content/uploads/2018/07/Agnes-Obel.jpg
END:VEVENT
BEGIN:VEVENT
DTSTART;TZID=America/Halifax:20180914T193000
DTEND;TZID=America/Halifax:20180914T230000
DTSTAMP:20260419T095454
CREATED:20180628T175252Z
LAST-MODIFIED:20180716T170038Z
UID:1000004299-1536953400-1536966000@orsvp.com
SUMMARY:Rubix Kube: The Eighties Strike Back Show!
DESCRIPTION:
URL:http://orsvp.com/event/rubix-kube-the-eighties-strike-back-show-gramercy-theatre-091418/
LOCATION:Gramercy Theatre\, 127 E 23rd St\, New York\, NY\, 10010\, United States
CATEGORIES:All,Contests,Music
ATTACH;FMTTYPE=image/jpeg:http://orsvp.com/wp-content/uploads/2018/06/Rubix-Kube.jpg
END:VEVENT
BEGIN:VEVENT
DTSTART;TZID=America/Halifax:20180914T190000
DTEND;TZID=America/Halifax:20180914T230000
DTSTAMP:20260419T095454
CREATED:20180702T194838Z
LAST-MODIFIED:20180716T170651Z
UID:1000004409-1536951600-1536966000@orsvp.com
SUMMARY:Rick Springfield
DESCRIPTION:
URL:http://orsvp.com/event/rick-springfield-wellmont-theater-091418/
LOCATION:Wellmont Theater\, 5 Seymour St.\, Montclair\, NJ\, 07042\, United States
CATEGORIES:All,Contests,Music
ATTACH;FMTTYPE=image/jpeg:http://orsvp.com/wp-content/uploads/2018/07/RICK-SPRINGFIELD.jpg
END:VEVENT
BEGIN:VEVENT
DTSTART;TZID=America/Halifax:20180912T190000
DTEND;TZID=America/Halifax:20180912T230000
DTSTAMP:20260419T095454
CREATED:20180702T094719Z
LAST-MODIFIED:20180716T165431Z
UID:1000004345-1536778800-1536793200@orsvp.com
SUMMARY:Killing Joke
DESCRIPTION:
URL:http://orsvp.com/event/killing-joke-irving-plaza-091218/
LOCATION:Irving Plaza\, 17 Irving Pl\, New York\, NY\, 10003\, United States
CATEGORIES:All,Contests,Music
ATTACH;FMTTYPE=image/jpeg:http://orsvp.com/wp-content/uploads/2018/07/Killing-Joke.jpg
END:VEVENT
BEGIN:VEVENT
DTSTART;TZID=America/Halifax:20180912T190000
DTEND;TZID=America/Halifax:20180912T230000
DTSTAMP:20260419T095454
CREATED:20180601T021018Z
LAST-MODIFIED:20180716T164814Z
UID:1000004117-1536778800-1536793200@orsvp.com
SUMMARY:Angra
DESCRIPTION:
URL:http://orsvp.com/event/angra-gramercy-theatre-091218/
LOCATION:Gramercy Theatre\, 127 E 23rd St\, New York\, NY\, 10010\, United States
CATEGORIES:All,Contests,Music
ATTACH;FMTTYPE=image/jpeg:http://orsvp.com/wp-content/uploads/2018/05/Angra.jpg
END:VEVENT
BEGIN:VEVENT
DTSTART;TZID=America/Halifax:20180911T183000
DTEND;TZID=America/Halifax:20180911T230000
DTSTAMP:20260419T095454
CREATED:20180713T194909Z
LAST-MODIFIED:20180725T212430Z
UID:1000004965-1536690600-1536706800@orsvp.com
SUMMARY:Nonpoint
DESCRIPTION:
URL:http://orsvp.com/event/nonpoint-gramercy-theatre-091118/
LOCATION:Gramercy Theatre\, 127 E 23rd St\, New York\, NY\, 10010\, United States
CATEGORIES:All,Contests,Music
ATTACH;FMTTYPE=image/jpeg:http://orsvp.com/wp-content/uploads/2018/07/Nonpoint.jpg
END:VEVENT
BEGIN:VEVENT
DTSTART;TZID=America/Halifax:20180910T183000
DTEND;TZID=America/Halifax:20180910T230000
DTSTAMP:20260419T095454
CREATED:20180702T094142Z
LAST-MODIFIED:20180716T163131Z
UID:1000004343-1536604200-1536620400@orsvp.com
SUMMARY:In Real Life - Tonight Belongs To You Tour
DESCRIPTION:
URL:http://orsvp.com/event/in-real-life-tonight-belongs-to-you-tour-irving-plaza-091018/
LOCATION:Irving Plaza\, 17 Irving Pl\, New York\, NY\, 10003\, United States
CATEGORIES:All,Contests,Music
ATTACH;FMTTYPE=image/jpeg:http://orsvp.com/wp-content/uploads/2018/07/In-Real-Life.jpg
END:VEVENT
BEGIN:VEVENT
DTSTART;TZID=America/Halifax:20180908T190000
DTEND;TZID=America/Halifax:20180908T230000
DTSTAMP:20260419T095454
CREATED:20180702T105635Z
LAST-MODIFIED:20180716T162546Z
UID:1000004353-1536433200-1536447600@orsvp.com
SUMMARY:Blackberry Smoke - Find A Light Tour
DESCRIPTION:
URL:http://orsvp.com/event/blackberry-smoke-find-a-light-tour-irving-plaza-090818/
LOCATION:Irving Plaza\, 17 Irving Pl\, New York\, NY\, 10003\, United States
CATEGORIES:All,Contests,Music
ATTACH;FMTTYPE=image/jpeg:http://orsvp.com/wp-content/uploads/2018/07/Blackberry-Smoke-Find-A-Light-Tour-1.jpg
END:VEVENT
BEGIN:VEVENT
DTSTART;TZID=America/Halifax:20180907T190000
DTEND;TZID=America/Halifax:20180907T230000
DTSTAMP:20260419T095454
CREATED:20180702T093131Z
LAST-MODIFIED:20180716T162153Z
UID:1000004341-1536346800-1536361200@orsvp.com
SUMMARY:Blackberry Smoke - Find A Light Tour
DESCRIPTION:
URL:http://orsvp.com/event/blackberry-smoke-find-a-light-tour-irving-plaza-090718/
LOCATION:Irving Plaza\, 17 Irving Pl\, New York\, NY\, 10003\, United States
CATEGORIES:All,Contests,Music
ATTACH;FMTTYPE=image/jpeg:http://orsvp.com/wp-content/uploads/2018/07/Blackberry-Smoke-Find-A-Light-Tour.jpg
END:VEVENT
BEGIN:VEVENT
DTSTART;TZID=America/Halifax:20180907T190000
DTEND;TZID=America/Halifax:20180907T230000
DTSTAMP:20260419T095454
CREATED:20180601T015922Z
LAST-MODIFIED:20180716T160026Z
UID:1000004115-1536346800-1536361200@orsvp.com
SUMMARY:Amorphis
DESCRIPTION:
URL:http://orsvp.com/event/amorphis-gramercy-theatre-090718/
LOCATION:Gramercy Theatre\, 127 E 23rd St\, New York\, NY\, 10010\, United States
CATEGORIES:All,Contests,Music
ATTACH;FMTTYPE=image/jpeg:http://orsvp.com/wp-content/uploads/2018/05/Amorphis.jpg
END:VEVENT
BEGIN:VEVENT
DTSTART;TZID=America/Halifax:20180906T200000
DTEND;TZID=America/Halifax:20180906T230000
DTSTAMP:20260419T095454
CREATED:20180703T095707Z
LAST-MODIFIED:20180716T155247Z
UID:1000004436-1536264000-1536274800@orsvp.com
SUMMARY:Saint Etienne - Celebrate Twenty Years of Good Humor
DESCRIPTION:Saint Etienne are celebrating the 20th anniversary of the release of their much-loved Good Humor album with a tour in the US and Canada. The group will be playing the album in its entirety\, followed by a set of hits\, old classics\, and a new song or two. \nThese shows won’t be repeated anywhere else. And you can expect some extra special tour-only merchandise items\, including previously unheard music.
URL:http://orsvp.com/event/saint-etienne-celebrate-twenty-years-of-good-humor-warsaw-090618/
LOCATION:Warsaw\, 261 Driggs Ave.\, Brooklyn\, NY\, 11222\, United States
CATEGORIES:All,Contests,Music
ATTACH;FMTTYPE=image/jpeg:http://orsvp.com/wp-content/uploads/2018/07/Saint-Etienne.jpg
END:VEVENT
BEGIN:VEVENT
DTSTART;TZID=America/Halifax:20180906T190000
DTEND;TZID=America/Halifax:20180906T230000
DTSTAMP:20260419T095454
CREATED:20180719T192448Z
LAST-MODIFIED:20180725T211408Z
UID:1000004989-1536260400-1536274800@orsvp.com
SUMMARY:SESHOLLOWATERBOYZ
DESCRIPTION:
URL:http://orsvp.com/event/seshollowaterboyz-irving-plaza-090618/
LOCATION:Irving Plaza\, 17 Irving Pl\, New York\, NY\, 10003\, United States
CATEGORIES:All,Contests,Music
ATTACH;FMTTYPE=image/jpeg:http://orsvp.com/wp-content/uploads/2018/07/SESHOLLOWATERBOYZ.jpg
END:VEVENT
BEGIN:VEVENT
DTSTART;TZID=America/Halifax:20180906T190000
DTEND;TZID=America/Halifax:20180906T230000
DTSTAMP:20260419T095454
CREATED:20180628T162505Z
LAST-MODIFIED:20180716T151832Z
UID:1000004275-1536260400-1536274800@orsvp.com
SUMMARY:Metal Allegiance
DESCRIPTION:
URL:http://orsvp.com/event/metal-allegiance-gramercy-theatre-090618/
LOCATION:Gramercy Theatre\, 127 E 23rd St\, New York\, NY\, 10010\, United States
CATEGORIES:All,Contests,Music
ATTACH;FMTTYPE=image/jpeg:http://orsvp.com/wp-content/uploads/2018/06/Metal-Allegiance.jpg
END:VEVENT
BEGIN:VEVENT
DTSTART;TZID=America/Halifax:20180904T190000
DTEND;TZID=America/Halifax:20180904T230000
DTSTAMP:20260419T095454
CREATED:20180628T161919Z
LAST-MODIFIED:20180716T151318Z
UID:1000004273-1536087600-1536102000@orsvp.com
SUMMARY:Orgy
DESCRIPTION:
URL:http://orsvp.com/event/orgy-gramercy-theatre-090418/
LOCATION:Gramercy Theatre\, 127 E 23rd St\, New York\, NY\, 10010\, United States
CATEGORIES:All,Contests,Music
ATTACH;FMTTYPE=image/jpeg:http://orsvp.com/wp-content/uploads/2018/06/Orgy.jpg
END:VEVENT
BEGIN:VEVENT
DTSTART;TZID=America/Halifax:20180831T070000
DTEND;TZID=America/Halifax:20180831T090000
DTSTAMP:20260419T095454
CREATED:20180502T192750Z
LAST-MODIFIED:20180712T191340Z
UID:1000003435-1535698800-1535706000@orsvp.com
SUMMARY:GMA Summer Concert Series: Alesso
DESCRIPTION:Alesso will be taking over Central Park on August 31st with a free performance as part of this year’s GMA Summer Concert Series! #ALESSOonGMA \nThis concert is free and open to the public and will take place live during “Good Morning America\,” Friday from 7 AM to 9 AM. \nView the complete GMA Summer Concert Series Schedule for the rest of this year’s amazing line up! \nViewers interested in joining “GMA” in Central Park are encouraged to arrive at Rumsey Playfield via the 72nd street entrance on Fifth Avenue at 6:00 AM when the park opens to the public.
URL:http://orsvp.com/event/gma-summer-concert-series-alesso-gma-central-park-083118/
LOCATION:Central Park SummerStage\, Central Park SummerStage\, New York\, NY\, 10019\, United States
CATEGORIES:All,Contests,Free Concerts,Music
ATTACH;FMTTYPE=image/jpeg:http://orsvp.com/wp-content/uploads/2018/05/alesso-gma-summer-concett-series-2018.jpg
END:VEVENT
END:VCALENDAR